BEGIN:VCALENDAR
VERSION:2.0
PRODID:-//Centre for Teaching Excellence - ECPv6.15.20//NONSGML v1.0//EN
CALSCALE:GREGORIAN
METHOD:PUBLISH
X-ORIGINAL-URL:https://cte.capilanou.ca
X-WR-CALDESC:Events for Centre for Teaching Excellence
REFRESH-INTERVAL;VALUE=DURATION:PT1H
X-Robots-Tag:noindex
X-PUBLISHED-TTL:PT1H
BEGIN:VTIMEZONE
TZID:America/Vancouver
BEGIN:DAYLIGHT
TZOFFSETFROM:-0800
TZOFFSETTO:-0700
TZNAME:PDT
DTSTART:20190310T100000
END:DAYLIGHT
BEGIN:STANDARD
TZOFFSETFROM:-0700
TZOFFSETTO:-0800
TZNAME:PST
DTSTART:20191103T090000
END:STANDARD
BEGIN:DAYLIGHT
TZOFFSETFROM:-0800
TZOFFSETTO:-0700
TZNAME:PDT
DTSTART:20200308T100000
END:DAYLIGHT
BEGIN:STANDARD
TZOFFSETFROM:-0700
TZOFFSETTO:-0800
TZNAME:PST
DTSTART:20201101T090000
END:STANDARD
BEGIN:DAYLIGHT
TZOFFSETFROM:-0800
TZOFFSETTO:-0700
TZNAME:PDT
DTSTART:20210314T100000
END:DAYLIGHT
BEGIN:STANDARD
TZOFFSETFROM:-0700
TZOFFSETTO:-0800
TZNAME:PST
DTSTART:20211107T090000
END:STANDARD
END:VTIMEZONE
BEGIN:VEVENT
DTSTART;TZID=America/Vancouver:20200817T080000
DTEND;TZID=America/Vancouver:20200821T170000
DTSTAMP:20260419T103418
CREATED:20200608T174016Z
LAST-MODIFIED:20200713T165038Z
UID:8243-1597651200-1598029200@cte.capilanou.ca
SUMMARY:Online Teaching Fundamentals Micro Course
DESCRIPTION:August 17 – August 21\, 2020\n10:00 am – 11:30 am via WebEx\n\n\nThis five-day micro course is designed for faculty interested in developing and/or teaching an online or blended course. This course is delivered both asynchronously and synchronously. Each day begins with a daily webinar covering a different topic of course design and delivery that is followed by self-paced activities that allow you to build on what you learned. The course models an approach you can take with your students. \n\n\n\nClick here to sign up now!   \nhttps://cte.capilanou.ca/program-events/online-microcourse/
URL:https://cte.capilanou.ca/event/online-teaching-fundamentals-micro-course/
LOCATION:Capilano University\, 2055 Purcell Way\, North Vancouver\, BC\, V7J 3H5\, Canada
END:VEVENT
BEGIN:VEVENT
DTSTART;TZID=America/Vancouver:20200819T090000
DTEND;TZID=America/Vancouver:20200819T103000
DTSTAMP:20260419T103418
CREATED:20200720T184507Z
LAST-MODIFIED:20200806T221935Z
UID:8675-1597827600-1597833000@cte.capilanou.ca
SUMMARY:Aspiring Allies Gatherings
DESCRIPTION:Aspiring Allies Gatherings: \nWednesday\, August 19\n9:00 a.m. – 10:30 a.m. \nPlease register from here!
URL:https://cte.capilanou.ca/event/aspiring-allies-gatherings-2/
LOCATION:Capilano University\, 2055 Purcell Way\, North Vancouver\, BC\, V7J 3H5\, Canada
END:VEVENT
BEGIN:VEVENT
DTSTART;TZID=America/Vancouver:20200820T140000
DTEND;TZID=America/Vancouver:20200820T144500
DTSTAMP:20260419T103418
CREATED:20200814T215436Z
LAST-MODIFIED:20200814T225705Z
UID:8720-1597932000-1597934700@cte.capilanou.ca
SUMMARY:Intro to Zoom
DESCRIPTION:Zoom video conferencing has arrived at CapU. Learn how to run a Zoom session with your students. Manage participants\, share your screen and annotate it\, build breakout rooms\, add virtual backgrounds and much more.  
URL:https://cte.capilanou.ca/event/intro-to-zoom/
LOCATION:Capilano University\, 2055 Purcell Way\, North Vancouver\, BC\, V7J 3H5\, Canada
END:VEVENT
BEGIN:VEVENT
DTSTART;TZID=America/Vancouver:20200824T140000
DTEND;TZID=America/Vancouver:20200824T150000
DTSTAMP:20260419T103418
CREATED:20200824T170106Z
LAST-MODIFIED:20200824T215419Z
UID:8809-1598277600-1598281200@cte.capilanou.ca
SUMMARY:Shift Your f2f Course Online
DESCRIPTION:SHIFT YOUR F2F COURSE ONLINE\nMonday\, August 24\n2:00pm – 3:00pm in Zoom \nRapid course design and development ideas for immediate use in your online course. Key takeaways:\n• build weekly modules\n• upload documents and files to eLearn\n• create discussion forums\n• incorporate virtual office hours. \n 
URL:https://cte.capilanou.ca/event/shift-your-f2f-course-online-2/
LOCATION:Capilano University\, 2055 Purcell Way\, North Vancouver\, BC\, V7J 3H5\, Canada
END:VEVENT
BEGIN:VEVENT
DTSTART;TZID=America/Vancouver:20200825T100000
DTEND;TZID=America/Vancouver:20200825T110000
DTSTAMP:20260419T103418
CREATED:20200820T224413Z
LAST-MODIFIED:20200820T224413Z
UID:8779-1598349600-1598353200@cte.capilanou.ca
SUMMARY:Online Feedback Strategies and Rubrics in e-Learn
DESCRIPTION:Tuesday\, Aug 25 at 1pm-2pm  \nExplore a variety of feedback strategies and rubric options featured in e-Learn to streamline your marking for your online courses. 
URL:https://cte.capilanou.ca/event/online-feedback-strategies-and-rubrics-in-e-learn/
LOCATION:Capilano University\, 2055 Purcell Way\, North Vancouver\, BC\, V7J 3H5\, Canada
END:VEVENT
BEGIN:VEVENT
DTSTART;TZID=America/Vancouver:20200825T140000
DTEND;TZID=America/Vancouver:20200825T150000
DTSTAMP:20260419T103418
CREATED:20200824T174230Z
LAST-MODIFIED:20200824T215539Z
UID:8811-1598364000-1598367600@cte.capilanou.ca
SUMMARY:Create an Online Video Lecture
DESCRIPTION:Tuesday August 25\n2:00 pm-3:00 pm in Zoom \nCreate short and meaningful videos for your online course using Kaltura. Learn to embed quizzes in your video\, and build a media centre of video for your students. Learn how to add video based and non-disposable assignments for students.
URL:https://cte.capilanou.ca/event/create-an-online-video-lecture/
LOCATION:Capilano University\, 2055 Purcell Way\, North Vancouver\, BC\, V7J 3H5\, Canada
END:VEVENT
BEGIN:VEVENT
DTSTART;TZID=America/Vancouver:20200826T140000
DTEND;TZID=America/Vancouver:20200826T144500
DTSTAMP:20260419T103418
CREATED:20200814T215622Z
LAST-MODIFIED:20200814T225754Z
UID:8722-1598450400-1598453100@cte.capilanou.ca
SUMMARY:Intro to Zoom
DESCRIPTION:Zoom video conferencing has arrived at CapU. Learn how to run a Zoom session with your students. Manage participants\, share your screen and annotate it\, build breakout rooms\, add virtual backgrounds and much more.  
URL:https://cte.capilanou.ca/event/intro-to-zoo/
LOCATION:Capilano University\, 2055 Purcell Way\, North Vancouver\, BC\, V7J 3H5\, Canada
END:VEVENT
BEGIN:VEVENT
DTSTART;TZID=America/Vancouver:20200827T140000
DTEND;TZID=America/Vancouver:20200827T150000
DTSTAMP:20260419T103418
CREATED:20200820T224727Z
LAST-MODIFIED:20200820T224727Z
UID:8781-1598536800-1598540400@cte.capilanou.ca
SUMMARY:Creating Community in Online Courses
DESCRIPTION:Thursday\, August 27\n2:00 pm – 3:00 pm \nBuilding a community of learners in an online course rewards student participation and increases student motivation. Learn effective strategies for building a community of online learners and how to use technology to do it. \nSign up now!\nhttps://cte.capilanou.ca/program-events/creating-community-zoom/ \n 
URL:https://cte.capilanou.ca/event/creating-community-in-online-courses-2/
LOCATION:Capilano University\, 2055 Purcell Way\, North Vancouver\, BC\, V7J 3H5\, Canada
END:VEVENT
BEGIN:VEVENT
DTSTART;TZID=America/Vancouver:20200831T093000
DTEND;TZID=America/Vancouver:20200831T110000
DTSTAMP:20260419T103418
CREATED:20200827T211237Z
LAST-MODIFIED:20200827T211237Z
UID:8865-1598866200-1598871600@cte.capilanou.ca
SUMMARY:CONVERT YOUR SYLLABUS TO AN ELEARN COURSE (Part-1)
DESCRIPTION:Part 1: Monday\, August 31\, 9:30-11:00\nPart 2: Wednesday\, September 2\, 9:30-11:00\nPart 3: Thursday\, September 3\, 9:30-11:00 \nThis three-part workshop guides participants through the process of building an online course from an existing syllabus. In parts one and two\, facilitators will demonstrate an approach to converting a syllabus into an online course in eLearn and participants will have opportunities to practice\, ask questions and get feedback. In part three\, we will meet again to discuss challenges and opportunities encountered and to share further strategies and next steps for building a clean and easy-to-follow eLearn course. \n  \nPlease sign up at https://cte.capilanou.ca/program-events/convert-syllabus/ \n 
URL:https://cte.capilanou.ca/event/convert-your-syllabus-to-an-elearn-course-part-1/
LOCATION:Capilano University\, 2055 Purcell Way\, North Vancouver\, BC\, V7J 3H5\, Canada
END:VEVENT
BEGIN:VEVENT
DTSTART;TZID=America/Vancouver:20200831T130000
DTEND;TZID=America/Vancouver:20200831T140000
DTSTAMP:20260419T103418
CREATED:20200821T154813Z
LAST-MODIFIED:20200821T154916Z
UID:8798-1598878800-1598882400@cte.capilanou.ca
SUMMARY:Practice Sessions for MS Teams
DESCRIPTION:Before going live with your new polling\, breakout room\, white boarding\, etc. skills\, would you like a little practice?  Sign up here for one of CTE’s daily 1-hour Practice Sessions\, available from August 31st – September 4th. Each session will be hosted in one of CapU’s three video-conferencing platforms.  6 persons per session. \n\n\n\nIf you have any questions\, please contact us at cte@capilanou.ca. \nSign up now!\nhttps://cte.capilanou.ca/program-events/practice-sessions/
URL:https://cte.capilanou.ca/event/practice-sessions-for-ms-teams/
LOCATION:Capilano University\, 2055 Purcell Way\, North Vancouver\, BC\, V7J 3H5\, Canada
END:VEVENT
END:VCALENDAR