BEGIN:VCALENDAR
VERSION:2.0
PRODID:-//Centre for Teaching Excellence - ECPv6.15.20//NONSGML v1.0//EN
CALSCALE:GREGORIAN
METHOD:PUBLISH
X-ORIGINAL-URL:https://cte.capilanou.ca
X-WR-CALDESC:Events for Centre for Teaching Excellence
REFRESH-INTERVAL;VALUE=DURATION:PT1H
X-Robots-Tag:noindex
X-PUBLISHED-TTL:PT1H
BEGIN:VTIMEZONE
TZID:America/Vancouver
BEGIN:DAYLIGHT
TZOFFSETFROM:-0800
TZOFFSETTO:-0700
TZNAME:PDT
DTSTART:20180311T100000
END:DAYLIGHT
BEGIN:STANDARD
TZOFFSETFROM:-0700
TZOFFSETTO:-0800
TZNAME:PST
DTSTART:20181104T090000
END:STANDARD
BEGIN:DAYLIGHT
TZOFFSETFROM:-0800
TZOFFSETTO:-0700
TZNAME:PDT
DTSTART:20190310T100000
END:DAYLIGHT
BEGIN:STANDARD
TZOFFSETFROM:-0700
TZOFFSETTO:-0800
TZNAME:PST
DTSTART:20191103T090000
END:STANDARD
BEGIN:DAYLIGHT
TZOFFSETFROM:-0800
TZOFFSETTO:-0700
TZNAME:PDT
DTSTART:20200308T100000
END:DAYLIGHT
BEGIN:STANDARD
TZOFFSETFROM:-0700
TZOFFSETTO:-0800
TZNAME:PST
DTSTART:20201101T090000
END:STANDARD
END:VTIMEZONE
BEGIN:VEVENT
DTSTART;TZID=America/Vancouver:20191001T100000
DTEND;TZID=America/Vancouver:20191001T112000
DTSTAMP:20260422T084000
CREATED:20190820T202443Z
LAST-MODIFIED:20190820T202443Z
UID:5809-1569924000-1569928800@cte.capilanou.ca
SUMMARY:CTE Book Club
DESCRIPTION:This fall we will be reading and discussing The Courage to Teach: Exploring the Inner Landscape of a Teacher’s Life by Parker J. Palmer. The first book club meeting is scheduled for September 25th. All faculty member welcome! Monthly meetings will be held on the last Wednesday of the month. \nKick off meeting: September 17\, 2019 10:00 – 11:20 am  FR402A\nEmail us at cte@capilanou.ca to join.
URL:https://cte.capilanou.ca/event/cte-book-club/
LOCATION:Capilano University\, 2055 Purcell Way\, North Vancouver\, BC\, V7J 3H5\, Canada
ORGANIZER;CN="Centre for Teaching Excellence":MAILTO:cte@capilanou.ca
END:VEVENT
BEGIN:VEVENT
DTSTART;TZID=America/Vancouver:20191008T130000
DTEND;TZID=America/Vancouver:20191008T142000
DTSTAMP:20260422T084000
CREATED:20190906T154708Z
LAST-MODIFIED:20190906T161151Z
UID:6195-1570539600-1570544400@cte.capilanou.ca
SUMMARY:Teaching Portfolio
DESCRIPTION:Want to create your own Teaching Portfolio? Join us for our four-session series on developing your Teaching Portfolio. This is an excellent way to document evidence of your teaching and to showcase your teaching and learning accomplishments. \nThe sessions will be held on Tuesdays in Fir 402A from 1:00 – 2:20 p.m. \nSession 1: Introduction to Teaching Portfolios \n<Upcoming Workshops>\nOctober 22 Session 2: Curating Evidence of Effective Teaching\nNovember 5 Session 3: How to Use WordPress\nNovember 19 Session 4: Showcasing and Sharing Your Teaching Portfolio \nRegister now!
URL:https://cte.capilanou.ca/event/teaching-portfolio/
LOCATION:Capilano University\, 2055 Purcell Way\, North Vancouver\, BC\, V7J 3H5\, Canada
ORGANIZER;CN="Centre for Teaching Excellence":MAILTO:cte@capilanou.ca
END:VEVENT
BEGIN:VEVENT
DTSTART;TZID=America/Vancouver:20191011T130000
DTEND;TZID=America/Vancouver:20191011T150000
DTSTAMP:20260422T084000
CREATED:20190626T200744Z
LAST-MODIFIED:20190626T200744Z
UID:5488-1570798800-1570806000@cte.capilanou.ca
SUMMARY:Faculty Learning Community – Teacher as Researcher
DESCRIPTION:The FLC will be stimulating\, collaborative\, and fun! Meet colleagues from a variety of disciplines who share your interest in this topic! You will be guaranteed a positive learning environment\, the opportunity to meet and learn from colleagues\, and\, not to be overlooked\, some very good food! \nThe FLC will meet generally every second Friday for the first term and possibly every third Friday for the Spring semester. \nPlease email cte@capilanou.ca to register.
URL:https://cte.capilanou.ca/event/faculty-learning-community-teacher-as-researcher-9/
LOCATION:Capilano University\, 2055 Purcell Way\, North Vancouver\, BC\, V7J 3H5\, Canada
ORGANIZER;CN="Centre for Teaching Excellence":MAILTO:cte@capilanou.ca
END:VEVENT
BEGIN:VEVENT
DTSTART;TZID=America/Vancouver:20191015T100000
DTEND;TZID=America/Vancouver:20191015T112000
DTSTAMP:20260422T084000
CREATED:20190820T202620Z
LAST-MODIFIED:20190820T202816Z
UID:5811-1571133600-1571138400@cte.capilanou.ca
SUMMARY:CTE Book Club
DESCRIPTION:This fall we will be reading and discussing The Courage to Teach: Exploring the Inner Landscape of a Teacher’s Life by Parker J. Palmer. The first book club meeting is scheduled for September 25th. All faculty member welcome! Monthly meetings will be held on the last Wednesday of the month. \nOctober 15  10:00 – 11:20 am  FR402A\nEmail us at cte@capilanou.ca to join.
URL:https://cte.capilanou.ca/event/cte-book-club-2/
LOCATION:Capilano University\, 2055 Purcell Way\, North Vancouver\, BC\, V7J 3H5\, Canada
ORGANIZER;CN="Centre for Teaching Excellence":MAILTO:cte@capilanou.ca
END:VEVENT
BEGIN:VEVENT
DTSTART;TZID=America/Vancouver:20191021T080000
DTEND;TZID=America/Vancouver:20191101T170000
DTSTAMP:20260422T084000
CREATED:20190829T180213Z
LAST-MODIFIED:20190829T180213Z
UID:6051-1571644800-1572627600@cte.capilanou.ca
SUMMARY:Active Learning Online
DESCRIPTION:This 2-week workshop is developed specifically for CapU faculty interested in complementing or rethinking a course with active learning activities online. The course emphasizes the value of collaboration with peers online\, and models active learning examples in order to facilitate understanding and reflection of the online learner experience. Participants will draw upon existing teaching experience as they experiment with a practical learning activity of their own choice online and gain feedback from peers. Participants can expect to spend 8-10 hours per week on the workshop. \n\n\n\n\n\n\n\n\n\n\n\n\n8-10 hours/week\, mostly self-paced.
URL:https://cte.capilanou.ca/event/active-learning-online-2/
END:VEVENT
BEGIN:VEVENT
DTSTART;TZID=America/Vancouver:20191022T130000
DTEND;TZID=America/Vancouver:20191022T142000
DTSTAMP:20260422T084000
CREATED:20190906T154934Z
LAST-MODIFIED:20190906T161549Z
UID:6197-1571749200-1571754000@cte.capilanou.ca
SUMMARY:Teaching Portfolio
DESCRIPTION:Want to create your own Teaching Portfolio? Join us for our four-session series on developing your Teaching Portfolio. This is an excellent way to document evidence of your teaching and to showcase your teaching and learning accomplishments. \nSession 2: Curating Evidence of Effective Teaching \n<Next Workshops>\nNovember 5     Session 3: How to Use WordPress\nNovember 19     Session 4: Showcasing and Sharing Your Teaching Portfolio\nRegister now!
URL:https://cte.capilanou.ca/event/teaching-portfolio-2/
LOCATION:Capilano University\, 2055 Purcell Way\, North Vancouver\, BC\, V7J 3H5\, Canada
ORGANIZER;CN="Centre for Teaching Excellence":MAILTO:cte@capilanou.ca
END:VEVENT
BEGIN:VEVENT
DTSTART;TZID=America/Vancouver:20191025T130000
DTEND;TZID=America/Vancouver:20191025T150000
DTSTAMP:20260422T084000
CREATED:20190626T200857Z
LAST-MODIFIED:20190626T200857Z
UID:5490-1572008400-1572015600@cte.capilanou.ca
SUMMARY:Faculty Learning Community – Teacher as Researcher
DESCRIPTION:Perhaps you developed a particular assignment or project or tried a new teaching approach that you would be interested in investigating. Together we will learn about the role of teacher as researcher\, explore key articles on the Scholarship of Teaching and Learning (SoTL)\, and support each other as we move forward to develop a teaching and learning inquiry based on our teaching practices. \nThe FLC will be stimulating\, collaborative\, and fun! Meet colleagues from a variety of disciplines who share your interest in this topic! You will be guaranteed a positive learning environment\, the opportunity to meet and learn from colleagues\, and\, not to be overlooked\, some very good food! \nThe FLC will meet generally every second Friday for the first term and possibly every third Friday for the Spring semester. \nPlease email cte@capilanou.ca to register.
URL:https://cte.capilanou.ca/event/faculty-learning-community-teacher-as-researcher-10/
LOCATION:Capilano University\, 2055 Purcell Way\, North Vancouver\, BC\, V7J 3H5\, Canada
ORGANIZER;CN="Centre for Teaching Excellence":MAILTO:cte@capilanou.ca
END:VEVENT
BEGIN:VEVENT
DTSTART;TZID=America/Vancouver:20191029T100000
DTEND;TZID=America/Vancouver:20191029T112000
DTSTAMP:20260422T084000
CREATED:20190820T202721Z
LAST-MODIFIED:20190820T202751Z
UID:5813-1572343200-1572348000@cte.capilanou.ca
SUMMARY:CTE Book Club
DESCRIPTION:This fall we will be reading and discussing The Courage to Teach: Exploring the Inner Landscape of a Teacher’s Life by Parker J. Palmer. The first book club meeting is scheduled for September 25th. All faculty member welcome! Monthly meetings will be held on the last Wednesday of the month. \nOctober 29\, 2019 10:00 – 11:20 am  FR402A\nEmail us at cte@capilanou.ca to join.
URL:https://cte.capilanou.ca/event/5813/
END:VEVENT
BEGIN:VEVENT
DTSTART;TZID=America/Vancouver:20191031T130000
DTEND;TZID=America/Vancouver:20191031T143000
DTSTAMP:20260422T084000
CREATED:20190624T223428Z
LAST-MODIFIED:20190626T183729Z
UID:5428-1572526800-1572532200@cte.capilanou.ca
SUMMARY:LIBERATING STRUCTURES – CAPU PRACTICE GROUP FOR FACULTY
DESCRIPTION:Come practice and experience the power of Liberating Structures in a safe and welcoming peer environment. The practice group meets monthly and all faculty are welcome to drop in! \nLB321
URL:https://cte.capilanou.ca/event/liberating-structures-new-capu-practice-group-for-faculty-4/
LOCATION:Capilano University\, 2055 Purcell Way\, North Vancouver\, BC\, V7J 3H5\, Canada
END:VEVENT
END:VCALENDAR