BEGIN:VCALENDAR
VERSION:2.0
PRODID:-//Centre for Teaching Excellence - ECPv6.15.20//NONSGML v1.0//EN
CALSCALE:GREGORIAN
METHOD:PUBLISH
X-ORIGINAL-URL:https://cte.capilanou.ca
X-WR-CALDESC:Events for Centre for Teaching Excellence
REFRESH-INTERVAL;VALUE=DURATION:PT1H
X-Robots-Tag:noindex
X-PUBLISHED-TTL:PT1H
BEGIN:VTIMEZONE
TZID:America/Vancouver
BEGIN:DAYLIGHT
TZOFFSETFROM:-0800
TZOFFSETTO:-0700
TZNAME:PDT
DTSTART:20180311T100000
END:DAYLIGHT
BEGIN:STANDARD
TZOFFSETFROM:-0700
TZOFFSETTO:-0800
TZNAME:PST
DTSTART:20181104T090000
END:STANDARD
BEGIN:DAYLIGHT
TZOFFSETFROM:-0800
TZOFFSETTO:-0700
TZNAME:PDT
DTSTART:20190310T100000
END:DAYLIGHT
BEGIN:STANDARD
TZOFFSETFROM:-0700
TZOFFSETTO:-0800
TZNAME:PST
DTSTART:20191103T090000
END:STANDARD
BEGIN:DAYLIGHT
TZOFFSETFROM:-0800
TZOFFSETTO:-0700
TZNAME:PDT
DTSTART:20200308T100000
END:DAYLIGHT
BEGIN:STANDARD
TZOFFSETFROM:-0700
TZOFFSETTO:-0800
TZNAME:PST
DTSTART:20201101T090000
END:STANDARD
END:VTIMEZONE
BEGIN:VEVENT
DTSTART;VALUE=DATE:20190813
DTEND;VALUE=DATE:20190816
DTSTAMP:20260422T151403
CREATED:20190528T205011Z
LAST-MODIFIED:20190528T205011Z
UID:5157-1565654400-1565913599@cte.capilanou.ca
SUMMARY:INSTRUCTIONAL SKILLS WORKSHOP
DESCRIPTION:8:30am-3:30pm\nMA101/102\n\nThe Instructional Skills Workshop is an internationally recognized program designed to enhance teaching effectiveness of both new and experienced educators. The ISW is an intensive 24 hour peer-based experiential workshop grounded in learning-centered instruction. During the workshop\, participants design and deliver three 10 minute lessons and receive feedback from their peers in a supportive environment. Participants are provided with information on the theory and practice of teaching adult learners\, writing learning objectives with accompanying lesson plans\, techniques for encouraging active learning\, and suggestions for evaluation of learning\, and engage in reflective practice. The ISW counts as a three credit course in the Provincial Instructor Diploma Program (PIDP 3220: Delivery of Instruction). \nLimited to 12 participants. \nRegister now by emailing cte@capilanou.ca
URL:https://cte.capilanou.ca/event/instructional-skills-workshop/
LOCATION:Capilano University\, 2055 Purcell Way\, North Vancouver\, BC\, V7J 3H5\, Canada
END:VEVENT
BEGIN:VEVENT
DTSTART;VALUE=DATE:20190826
DTEND;VALUE=DATE:20190827
DTSTAMP:20260422T151403
CREATED:20190528T205503Z
LAST-MODIFIED:20190604T173118Z
UID:5159-1566777600-1566863999@cte.capilanou.ca
SUMMARY:CTE New Faculty Orientation
DESCRIPTION:9:00am-4:00pm\nLB321 \nThis one day workshop orients new and early career faculty to Capilano’s teaching and learning activities and resources to help ensure faculty success. Join us to learn more about faculty evaluations\, first day of class activities\, how to set up your online Moodle shell\, activity learning strategies\, and creating a positive classroom climate.
URL:https://cte.capilanou.ca/event/cte-new-faculty-orientation/
LOCATION:Capilano University\, 2055 Purcell Way\, North Vancouver\, BC\, V7J 3H5\, Canada
END:VEVENT
BEGIN:VEVENT
DTSTART;TZID=America/Vancouver:20190829T130000
DTEND;TZID=America/Vancouver:20190829T140000
DTSTAMP:20260422T151403
CREATED:20190612T202816Z
LAST-MODIFIED:20190626T184206Z
UID:5294-1567083600-1567087200@cte.capilanou.ca
SUMMARY:LIBERATING STRUCTURES – CAPU PRACTICE GROUP FOR FACULTY
DESCRIPTION:Come practice and experience the power of Liberating Structures in a safe and welcoming peer environment. The practice group meets monthly and all faculty are welcome to drop in!
URL:https://cte.capilanou.ca/event/liberating-structures-new-capu-practice-group-for-faculty-2/
LOCATION:Capilano University\, 2055 Purcell Way\, North Vancouver\, BC\, V7J 3H5\, Canada
END:VEVENT
END:VCALENDAR