BEGIN:VCALENDAR
VERSION:2.0
PRODID:-//Centre for Teaching Excellence - ECPv6.15.20//NONSGML v1.0//EN
CALSCALE:GREGORIAN
METHOD:PUBLISH
X-ORIGINAL-URL:https://cte.capilanou.ca
X-WR-CALDESC:Events for Centre for Teaching Excellence
REFRESH-INTERVAL;VALUE=DURATION:PT1H
X-Robots-Tag:noindex
X-PUBLISHED-TTL:PT1H
BEGIN:VTIMEZONE
TZID:America/Vancouver
BEGIN:DAYLIGHT
TZOFFSETFROM:-0800
TZOFFSETTO:-0700
TZNAME:PDT
DTSTART:20180311T100000
END:DAYLIGHT
BEGIN:STANDARD
TZOFFSETFROM:-0700
TZOFFSETTO:-0800
TZNAME:PST
DTSTART:20181104T090000
END:STANDARD
BEGIN:DAYLIGHT
TZOFFSETFROM:-0800
TZOFFSETTO:-0700
TZNAME:PDT
DTSTART:20190310T100000
END:DAYLIGHT
BEGIN:STANDARD
TZOFFSETFROM:-0700
TZOFFSETTO:-0800
TZNAME:PST
DTSTART:20191103T090000
END:STANDARD
BEGIN:DAYLIGHT
TZOFFSETFROM:-0800
TZOFFSETTO:-0700
TZNAME:PDT
DTSTART:20200308T100000
END:DAYLIGHT
BEGIN:STANDARD
TZOFFSETFROM:-0700
TZOFFSETTO:-0800
TZNAME:PST
DTSTART:20201101T090000
END:STANDARD
END:VTIMEZONE
BEGIN:VEVENT
DTSTART;VALUE=DATE:20190601
DTEND;VALUE=DATE:20190602
DTSTAMP:20260424T032801
CREATED:20190521T184705Z
LAST-MODIFIED:20190521T184705Z
UID:5101-1559347200-1559433599@cte.capilanou.ca
SUMMARY:International Workshop on Gender\, Diversity & Inclusiveness
DESCRIPTION:Simon Fraser University\nHarbour Centre\, 515 West Hastings\, Vancouver\nAncestral & Unceded Territory of the Musqueam\, Squamish & Tsleil-Waututh Nations \nRegistration\n\nPlease email your full name and affiliation to\nGSWS Manager Roberta at gswsmgr@sfu.ca and mention\n‘International Workshop Registration’ in the subject line \nSponsored by\n\nSFU Faculty of Arts and Social Sciences Dean Office | David Lam Center\nDepartment of Gender\, Sexuality\, and Women’s Studies | Institute for the Humanities\nLabour Studies Program | School of International Studies | Department of Sociology and Anthropology \nJointly Organized by\n\nHabiba Zaman\nProfessor of Gender\, Sexuality\, and Women’s Studies\, SFU\, Canada\nShi Guoqing\nProfessor & Director of Research Center for Gender & Development\, and National\nResearch Center for Resettlement\, Hohai University\, Nanjing\, China\nXiujie Zhu\nAssociate Professor & Vice-Chair\, Research Center for Gender & Development\nHohai University\, Nanjing\, China
URL:https://cte.capilanou.ca/event/international-workshop-on-gender-diversity-inclusiveness/
LOCATION:SFU Harbour Centre\, 515 W Hastings St.\, Vancouver\, BC\, V6B5K3\, Canada
END:VEVENT
BEGIN:VEVENT
DTSTART;VALUE=DATE:20190607
DTEND;VALUE=DATE:20190608
DTSTAMP:20260424T032801
CREATED:20190513T224012Z
LAST-MODIFIED:20190513T224012Z
UID:4959-1559865600-1559951999@cte.capilanou.ca
SUMMARY:One-Day Field Trip to the Cheakamus Centre
DESCRIPTION:We are excited to invite faculty to join us on a We are excited to invite faculty to join us on a one day field trip to the Cheakamus Centre on June 7th for in inquiry into place-based education. on June 7th for in inquiry into place-based education. \nAN EXPERIENTIAL LEARNING WORKSHOP AT CHEAKAMUS CENTRE\n\nCurious about place-based education? Want to explore how the notion of place matters to your students\, your curriculum and your discipline?\n“Place-based education (PBE) immerses students in local heritage\, cultures\, landscapes\, opportunities and experiences\, using these as a foundation for the study of language arts\, mathematics\, social studies\, science and other subjects across the curriculum. PBE emphasizes learning through participation in service projects for the local school and/or community.”
URL:https://cte.capilanou.ca/event/one-day-field-trip-to-the-cheakamus-centre/
LOCATION:Cheakamus Centre\, 1600 Paradise Valley Rd\, Brackendale\, BC\, V0N 1H0
END:VEVENT
BEGIN:VEVENT
DTSTART;TZID=America/Vancouver:20190624T130000
DTEND;TZID=America/Vancouver:20190624T143000
DTSTAMP:20260424T032801
CREATED:20190624T223251Z
LAST-MODIFIED:20190626T184217Z
UID:5426-1561381200-1561386600@cte.capilanou.ca
SUMMARY:LIBERATING STRUCTURES – CAPU PRACTICE GROUP FOR FACULTY
DESCRIPTION:Come practice and experience the power of Liberating Structures in a safe and welcoming peer environment. The practice group meets monthly and all faculty are welcome to drop in! \nLB145
URL:https://cte.capilanou.ca/event/liberating-structures-new-capu-practice-group-for-faculty-3/
LOCATION:Capilano University\, 2055 Purcell Way\, North Vancouver\, BC\, V7J 3H5\, Canada
END:VEVENT
END:VCALENDAR