BEGIN:VCALENDAR
VERSION:2.0
PRODID:-//Centre for Teaching Excellence - ECPv6.15.20//NONSGML v1.0//EN
CALSCALE:GREGORIAN
METHOD:PUBLISH
X-ORIGINAL-URL:https://cte.capilanou.ca
X-WR-CALDESC:Events for Centre for Teaching Excellence
REFRESH-INTERVAL;VALUE=DURATION:PT1H
X-Robots-Tag:noindex
X-PUBLISHED-TTL:PT1H
BEGIN:VTIMEZONE
TZID:America/Vancouver
BEGIN:DAYLIGHT
TZOFFSETFROM:-0800
TZOFFSETTO:-0700
TZNAME:PDT
DTSTART:20180311T100000
END:DAYLIGHT
BEGIN:STANDARD
TZOFFSETFROM:-0700
TZOFFSETTO:-0800
TZNAME:PST
DTSTART:20181104T090000
END:STANDARD
BEGIN:DAYLIGHT
TZOFFSETFROM:-0800
TZOFFSETTO:-0700
TZNAME:PDT
DTSTART:20190310T100000
END:DAYLIGHT
BEGIN:STANDARD
TZOFFSETFROM:-0700
TZOFFSETTO:-0800
TZNAME:PST
DTSTART:20191103T090000
END:STANDARD
BEGIN:DAYLIGHT
TZOFFSETFROM:-0800
TZOFFSETTO:-0700
TZNAME:PDT
DTSTART:20200308T100000
END:DAYLIGHT
BEGIN:STANDARD
TZOFFSETFROM:-0700
TZOFFSETTO:-0800
TZNAME:PST
DTSTART:20201101T090000
END:STANDARD
END:VTIMEZONE
BEGIN:VEVENT
DTSTART;VALUE=DATE:20190506
DTEND;VALUE=DATE:20190511
DTSTAMP:20260424T120343
CREATED:20190108T223010Z
LAST-MODIFIED:20190319T224243Z
UID:2243-1557100800-1557532799@cte.capilanou.ca
SUMMARY:Faculty Teaching and Learning Symposium
DESCRIPTION:The Centre for Teaching Excellence invites faculty to submit proposals for our annual Teaching and Learning Symposium May 6-10\, 2019. \nThe Symposium brings the Capilano faculty community together to share innovative ideas around scholarly teaching and learning\, effective teaching practices\, resources\, research\, and the use of educational technologies.
URL:https://cte.capilanou.ca/event/faculty-teaching-and-learning-symposium/
LOCATION:Capilano University\, 2055 Purcell Way\, North Vancouver\, BC\, V7J 3H5\, Canada
END:VEVENT
BEGIN:VEVENT
DTSTART;VALUE=DATE:20190514
DTEND;VALUE=DATE:20190517
DTSTAMP:20260424T120343
CREATED:20190319T224636Z
LAST-MODIFIED:20190321T223032Z
UID:3663-1557792000-1558051199@cte.capilanou.ca
SUMMARY:ISW Workshop
DESCRIPTION:The Instructional Skills Workshop is an internationally recognized program designed to enhance teaching effectiveness of both new and experienced educators. The ISW is an intensive 24 hour peer-based experiential workshop grounded in learning-centered instruction. During the workshop\, participants design and deliver three 10 minute lessons and receive feedback from their peers in a supportive environment. Participants are provided with information on the theory and practice of teaching adult learners\, writing learning objectives with accompanying lesson plans\, techniques for encouraging active learning\, and suggestions for evaluation of learning\, and engage in reflective practice. The ISW counts as a three credit course in the Provincial Instructor Diploma Program (PIDP 3220: Delivery of Instruction). \n8:30 – 4:00\nMA102 \nLimited to 12 participants. \nRegister now by emailing cte@capilanou.ca
URL:https://cte.capilanou.ca/event/isw-workshop/
LOCATION:Capilano University\, 2055 Purcell Way\, North Vancouver\, BC\, V7J 3H5\, Canada
END:VEVENT
BEGIN:VEVENT
DTSTART;VALUE=DATE:20190527
DTEND;VALUE=DATE:20190530
DTSTAMP:20260424T120343
CREATED:20190319T225008Z
LAST-MODIFIED:20190321T185422Z
UID:3665-1558915200-1559174399@cte.capilanou.ca
SUMMARY:Course (Re)Design Workshop
DESCRIPTION:8:30am-3:30pm\n\nAre you teaching an new course in the Fall or do you want to redesign a course you already teach?  During this 3 day workshop\, faculty with have an opportunity to design and receive feedback on  a course syllabi based on learning-centered principles. \nTopics include: \n\nBackward design\naligning course\, instructional\, and assessment goals\nwriting effective learning outcomes\nselecting and incorporating teaching and  learning activities\nselecting technology to enhance learning\nalignment between outcomes\, learning activities\, and assessment\ndesigning authentic assessments\n\nLimited to 15 participants. \nRegister now by emailing cte@capilanou.ca
URL:https://cte.capilanou.ca/event/course-redesign-workshop/
LOCATION:Capilano University\, 2055 Purcell Way\, North Vancouver\, BC\, V7J 3H5\, Canada
ORGANIZER;CN="Centre for Teaching Excellence":MAILTO:cte@capilanou.ca
END:VEVENT
END:VCALENDAR