BEGIN:VCALENDAR
VERSION:2.0
PRODID:-//Centre for Teaching Excellence - ECPv6.15.20//NONSGML v1.0//EN
CALSCALE:GREGORIAN
METHOD:PUBLISH
X-ORIGINAL-URL:https://cte.capilanou.ca
X-WR-CALDESC:Events for Centre for Teaching Excellence
REFRESH-INTERVAL;VALUE=DURATION:PT1H
X-Robots-Tag:noindex
X-PUBLISHED-TTL:PT1H
BEGIN:VTIMEZONE
TZID:America/Vancouver
BEGIN:DAYLIGHT
TZOFFSETFROM:-0800
TZOFFSETTO:-0700
TZNAME:PDT
DTSTART:20180311T100000
END:DAYLIGHT
BEGIN:STANDARD
TZOFFSETFROM:-0700
TZOFFSETTO:-0800
TZNAME:PST
DTSTART:20181104T090000
END:STANDARD
BEGIN:DAYLIGHT
TZOFFSETFROM:-0800
TZOFFSETTO:-0700
TZNAME:PDT
DTSTART:20190310T100000
END:DAYLIGHT
BEGIN:STANDARD
TZOFFSETFROM:-0700
TZOFFSETTO:-0800
TZNAME:PST
DTSTART:20191103T090000
END:STANDARD
BEGIN:DAYLIGHT
TZOFFSETFROM:-0800
TZOFFSETTO:-0700
TZNAME:PDT
DTSTART:20200308T100000
END:DAYLIGHT
BEGIN:STANDARD
TZOFFSETFROM:-0700
TZOFFSETTO:-0800
TZNAME:PST
DTSTART:20201101T090000
END:STANDARD
END:VTIMEZONE
BEGIN:VEVENT
DTSTART;TZID=America/Vancouver:20190301T083000
DTEND;TZID=America/Vancouver:20190301T160000
DTSTAMP:20260424T134457
CREATED:20190108T225054Z
LAST-MODIFIED:20190108T225307Z
UID:2247-1551429000-1551456000@cte.capilanou.ca
SUMMARY:Instructional Skills Workshop (ISW) Day1
DESCRIPTION:ISW is a 3-day internationally recognized workshop designed to enhance teaching effectiveness of both new and experienced educators. The workshop focuses on developing techniques for active learning and encourages reflection on own teaching practices. \n 
URL:https://cte.capilanou.ca/event/instructional-skills-workshop-isw/
LOCATION:Capilano University\, 2055 Purcell Way\, North Vancouver\, BC\, V7J 3H5\, Canada
ORGANIZER;CN="Centre for Teaching Excellence":MAILTO:cte@capilanou.ca
END:VEVENT
BEGIN:VEVENT
DTSTART;TZID=America/Vancouver:20190301T130000
DTEND;TZID=America/Vancouver:20190301T150000
DTSTAMP:20260424T134457
CREATED:20190204T170440Z
LAST-MODIFIED:20190204T171303Z
UID:2595-1551445200-1551452400@cte.capilanou.ca
SUMMARY:FACULTY LEARNING COMMUNITY - TEACHER AS RESEARCHER
DESCRIPTION:Dr. Mary Giovannetti\, Faculty Associate\, Centre for Teaching Excellence\, will be leading a faculty learning community (FLC) starting in February\, entitled Teacher as Researcher.\nAre you interested in and excited about engaging in developing a research question based on your students’ learning or your teaching?\nPerhaps you developed a particular assignment or project or tried a new teaching approach that you would be interested in investigating. Together we will learn about the role of teacher as researcher\, explore key articles on the Scholarship of Teaching and Learning (SoTL)\, and support each other as we move forward to develop a teaching and learning inquiry based on our teaching practices.\nThe FLC will be stimulating\, collaborative\, and fun! Meet colleagues from a variety of disciplines who share your interest in this topic! You will be guaranteed a positive learning environment\, the opportunity to meet and learn from colleagues\, and\, not to be overlooked\, some very good food!\nThe FLC starts from 1 – 3 p.m. in the CTE FR402.
URL:https://cte.capilanou.ca/event/faculty-learning-community-teacher-as-researcher-2/
LOCATION:Capilano University\, 2055 Purcell Way\, North Vancouver\, BC\, V7J 3H5\, Canada
ORGANIZER;CN="Centre for Teaching Excellence":MAILTO:cte@capilanou.ca
END:VEVENT
BEGIN:VEVENT
DTSTART;TZID=America/Vancouver:20190302T120000
DTEND;TZID=America/Vancouver:20190302T200000
DTSTAMP:20260424T134457
CREATED:20190131T222328Z
LAST-MODIFIED:20190131T222328Z
UID:2588-1551528000-1551556800@cte.capilanou.ca
SUMMARY:THE 2019 CROSS BORDER CONFERENCE
DESCRIPTION:North Surrey Secondary School\n​15945 – 96 ave (corner of 160 St.) Surrey\, BC.\nFriday Saturday\, March 2\, 2019 12:00 pm – 8:00 pm\n\nThey invite teachers\, activists and artists from British Columbia\, Oregon\, and Washington to imagine our classrooms as spaces where joy is the syncopation that sustains the work for justice. \nTeachers from British Columbia\, Oregon\, and Washington will come together to connect across borders in this second cross border social justice conference. Come! Bring your colleagues! \nFor more information\, go to http://crossborderconference.weebly.com/ \n\n 
URL:https://cte.capilanou.ca/event/the-2019-cross-border-conference/
LOCATION:SFU Harbour Centre\, 515 W Hastings St.\, Vancouver\, BC\, V6B5K3\, Canada
END:VEVENT
BEGIN:VEVENT
DTSTART;VALUE=DATE:20190304
DTEND;VALUE=DATE:20190309
DTSTAMP:20260424T134457
CREATED:20190108T210303Z
LAST-MODIFIED:20190108T225818Z
UID:2226-1551657600-1552089599@cte.capilanou.ca
SUMMARY:Active Learning Online Week 1
DESCRIPTION:Join CTE and CapU colleagues to experience active learning online in action in this 2-week mostly self-paced online workshop. Explore how to complement or rethink a course with active learning activities online\, map out your own activity and get feedback from peers.
URL:https://cte.capilanou.ca/event/active-learning-online/
LOCATION:Capilano University\, 2055 Purcell Way\, North Vancouver\, BC\, V7J 3H5\, Canada
ORGANIZER;CN="Centre for Teaching Excellence":MAILTO:cte@capilanou.ca
END:VEVENT
BEGIN:VEVENT
DTSTART;TZID=America/Vancouver:20190308T083000
DTEND;TZID=America/Vancouver:20190308T160000
DTSTAMP:20260424T134457
CREATED:20190108T225429Z
LAST-MODIFIED:20190108T225429Z
UID:2251-1552033800-1552060800@cte.capilanou.ca
SUMMARY:Instructional Skills Workshop (ISW)  Day2
DESCRIPTION:ISW is a 3-day internationally recognized workshop designed to enhance teaching effectiveness of both new and experienced educators. The workshop focuses on developing techniques for active learning and encourages reflection on own teaching practices. \n 
URL:https://cte.capilanou.ca/event/instructional-skills-workshop-isw-day2/
LOCATION:Capilano University\, 2055 Purcell Way\, North Vancouver\, BC\, V7J 3H5\, Canada
ORGANIZER;CN="Centre for Teaching Excellence":MAILTO:cte@capilanou.ca
END:VEVENT
BEGIN:VEVENT
DTSTART;VALUE=DATE:20190311
DTEND;VALUE=DATE:20190316
DTSTAMP:20260424T134457
CREATED:20190311T162014Z
LAST-MODIFIED:20190311T162014Z
UID:3404-1552262400-1552694399@cte.capilanou.ca
SUMMARY:ACTIVE LEARNING ONLINE WEEK 2
DESCRIPTION:Join CTE and CapU colleagues to experience active learning online in action in this 2-week mostly self-paced online workshop. Explore how to complement or rethink a course with active learning activities online\, map out your own activity and get feedback from peers. \n\n\nMARCH 11 – MARCH 15 \nMon\, March 11\, 1-2pm\n Zoom: https://zoom.us/j/6870061651\nIf you cannot use the web link\, you can join by phone via this toll free number +1 647 558 0588 (Canada Toll Free)\, Meeting ID: 687 006 1651 \nFri\, March 15\, noon-1:30pm \n 
URL:https://cte.capilanou.ca/event/active-learning-online-week-2/
LOCATION:Capilano University\, 2055 Purcell Way\, North Vancouver\, BC\, V7J 3H5\, Canada
ORGANIZER;CN="Centre for Teaching Excellence":MAILTO:cte@capilanou.ca
END:VEVENT
BEGIN:VEVENT
DTSTART;TZID=America/Vancouver:20190312T150000
DTEND;TZID=America/Vancouver:20190312T160000
DTSTAMP:20260424T134457
CREATED:20190130T222149Z
LAST-MODIFIED:20190130T222242Z
UID:2543-1552402800-1552406400@cte.capilanou.ca
SUMMARY:CapU Book Club
DESCRIPTION:This spring we are reading Small Teaching: Everyday Lessons from the Science of Learning by James Lang.\nEmail us to join and to get your copy of the book.\nFR402
URL:https://cte.capilanou.ca/event/2543/
LOCATION:Capilano University\, 2055 Purcell Way\, North Vancouver\, BC\, V7J 3H5\, Canada
ORGANIZER;CN="Centre for Teaching Excellence":MAILTO:cte@capilanou.ca
END:VEVENT
BEGIN:VEVENT
DTSTART;TZID=America/Vancouver:20190313T113000
DTEND;TZID=America/Vancouver:20190313T130000
DTSTAMP:20260424T134457
CREATED:20190104T220356Z
LAST-MODIFIED:20190104T220356Z
UID:2053-1552476600-1552482000@cte.capilanou.ca
SUMMARY:CTE Lunch and Learns
DESCRIPTION:FR402A (CTE meeting room) \nJoin us for informal brown bag lunch series on a variety of teaching-related topics. Meet new colleagues\, expand your campus-side network\, and share your experiences.
URL:https://cte.capilanou.ca/event/cte-lunch-and-learns-3/
LOCATION:Capilano University\, 2055 Purcell Way\, North Vancouver\, BC\, V7J 3H5\, Canada
ORGANIZER;CN="Centre for Teaching Excellence":MAILTO:cte@capilanou.ca
END:VEVENT
BEGIN:VEVENT
DTSTART;TZID=America/Vancouver:20190314T143000
DTEND;TZID=America/Vancouver:20190314T160000
DTSTAMP:20260424T134457
CREATED:20190108T193651Z
LAST-MODIFIED:20190108T193651Z
UID:2201-1552573800-1552579200@cte.capilanou.ca
SUMMARY:Teaching Matters March Session
DESCRIPTION:Teaching Matters is a monthly program provides faculty with the opportunity to learn about timely and practical approaches for enhancing their teaching.  \nTopic: Managing Your Marking
URL:https://cte.capilanou.ca/event/teaching-matters-march-session/
LOCATION:Capilano University\, 2055 Purcell Way\, North Vancouver\, BC\, V7J 3H5\, Canada
ORGANIZER;CN="Centre for Teaching Excellence":MAILTO:cte@capilanou.ca
END:VEVENT
BEGIN:VEVENT
DTSTART;TZID=America/Vancouver:20190315T083000
DTEND;TZID=America/Vancouver:20190315T160000
DTSTAMP:20260424T134457
CREATED:20190108T230843Z
LAST-MODIFIED:20190108T230843Z
UID:2256-1552638600-1552665600@cte.capilanou.ca
SUMMARY:Instructional Skills Workshop (ISW) Day 3
DESCRIPTION:
URL:https://cte.capilanou.ca/event/instructional-skills-workshop-isw-day-3/
LOCATION:Capilano University\, 2055 Purcell Way\, North Vancouver\, BC\, V7J 3H5\, Canada
ORGANIZER;CN="Centre for Teaching Excellence":MAILTO:cte@capilanou.ca
END:VEVENT
BEGIN:VEVENT
DTSTART;TZID=America/Vancouver:20190315T130000
DTEND;TZID=America/Vancouver:20190315T150000
DTSTAMP:20260424T134457
CREATED:20190204T170618Z
LAST-MODIFIED:20190204T171448Z
UID:2598-1552654800-1552662000@cte.capilanou.ca
SUMMARY:FACULTY LEARNING COMMUNITY - TEACHER AS RESEARCHER
DESCRIPTION:Dr. Mary Giovannetti\, Faculty Associate\, Centre for Teaching Excellence\, will be leading a faculty learning community (FLC) starting in February\, entitled Teacher as Researcher.\nAre you interested in and excited about engaging in developing a research question based on your students’ learning or your teaching?\nPerhaps you developed a particular assignment or project or tried a new teaching approach that you would be interested in investigating. Together we will learn about the role of teacher as researcher\, explore key articles on the Scholarship of Teaching and Learning (SoTL)\, and support each other as we move forward to develop a teaching and learning inquiry based on our teaching practices.\nThe FLC will be stimulating\, collaborative\, and fun! Meet colleagues from a variety of disciplines who share your interest in this topic! You will be guaranteed a positive learning environment\, the opportunity to meet and learn from colleagues\, and\, not to be overlooked\, some very good food!\nThe FLC starts from 1 – 3 p.m. in the CTE FR402.
URL:https://cte.capilanou.ca/event/faculty-learning-community-teacher-as-researcher-3/
LOCATION:Capilano University\, 2055 Purcell Way\, North Vancouver\, BC\, V7J 3H5\, Canada
ORGANIZER;CN="Centre for Teaching Excellence":MAILTO:cte@capilanou.ca
END:VEVENT
BEGIN:VEVENT
DTSTART;TZID=America/Vancouver:20190315T150000
DTEND;TZID=America/Vancouver:20190315T160000
DTSTAMP:20260424T134457
CREATED:20190128T184545Z
LAST-MODIFIED:20190205T205628Z
UID:2440-1552662000-1552665600@cte.capilanou.ca
SUMMARY:Folio Fridays
DESCRIPTION:Building Your Own Portfolio\, or Walking the Talk\nIn Spring 2019\, the Folio Thinking Campus Learning Community is meeting at 2:30pm on the first Friday of each month. There are no formal requirements associated other than a desire to participate in an ongoing cross-campus conversation about portfolios\, folio thinking\, and pedagogy. Topic for Spring 2019: Building Your Own Portfolio\, or Walking the Talk. \nMeeting dates for Spring 2019: Friday\, February 8; Friday\, March 15; and Friday\, April 5. \nLocation: Centre for Teaching Excellence\, FR 402. \nContact Aurelea Mahood\, Portfolio Project Faculty Lead\, for more information.
URL:https://cte.capilanou.ca/event/folio-fridays-5/
LOCATION:Capilano University\, 2055 Purcell Way\, North Vancouver\, BC\, V7J 3H5\, Canada
ORGANIZER;CN="Centre for Teaching Excellence":MAILTO:cte@capilanou.ca
END:VEVENT
BEGIN:VEVENT
DTSTART;TZID=America/Vancouver:20190329T130000
DTEND;TZID=America/Vancouver:20190329T150000
DTSTAMP:20260424T134457
CREATED:20190204T170803Z
LAST-MODIFIED:20190204T171628Z
UID:2600-1553864400-1553871600@cte.capilanou.ca
SUMMARY:FACULTY LEARNING COMMUNITY - TEACHER AS RESEARCHER
DESCRIPTION:Dr. Mary Giovannetti\, Faculty Associate\, Centre for Teaching Excellence\, will be leading a faculty learning community (FLC) starting in February\, entitled Teacher as Researcher.\nAre you interested in and excited about engaging in developing a research question based on your students’ learning or your teaching?\nPerhaps you developed a particular assignment or project or tried a new teaching approach that you would be interested in investigating. Together we will learn about the role of teacher as researcher\, explore key articles on the Scholarship of Teaching and Learning (SoTL)\, and support each other as we move forward to develop a teaching and learning inquiry based on our teaching practices.\nThe FLC will be stimulating\, collaborative\, and fun! Meet colleagues from a variety of disciplines who share your interest in this topic! You will be guaranteed a positive learning environment\, the opportunity to meet and learn from colleagues\, and\, not to be overlooked\, some very good food!\nThe FLC starts from 1 till 3 pm in the CTE FR402.
URL:https://cte.capilanou.ca/event/faculty-learning-community-teacher-as-researcher-4/
LOCATION:Capilano University\, 2055 Purcell Way\, North Vancouver\, BC\, V7J 3H5\, Canada
ORGANIZER;CN="Centre for Teaching Excellence":MAILTO:cte@capilanou.ca
END:VEVENT
END:VCALENDAR