BEGIN:VCALENDAR
VERSION:2.0
PRODID:-//Centre for Teaching Excellence - ECPv6.15.20//NONSGML v1.0//EN
CALSCALE:GREGORIAN
METHOD:PUBLISH
X-ORIGINAL-URL:https://cte.capilanou.ca
X-WR-CALDESC:Events for Centre for Teaching Excellence
REFRESH-INTERVAL;VALUE=DURATION:PT1H
X-Robots-Tag:noindex
X-PUBLISHED-TTL:PT1H
BEGIN:VTIMEZONE
TZID:America/Vancouver
BEGIN:DAYLIGHT
TZOFFSETFROM:-0800
TZOFFSETTO:-0700
TZNAME:PDT
DTSTART:20250309T100000
END:DAYLIGHT
BEGIN:STANDARD
TZOFFSETFROM:-0700
TZOFFSETTO:-0800
TZNAME:PST
DTSTART:20251102T090000
END:STANDARD
BEGIN:DAYLIGHT
TZOFFSETFROM:-0800
TZOFFSETTO:-0700
TZNAME:PDT
DTSTART:20260308T100000
END:DAYLIGHT
BEGIN:STANDARD
TZOFFSETFROM:-0700
TZOFFSETTO:-0800
TZNAME:PST
DTSTART:20261101T090000
END:STANDARD
BEGIN:DAYLIGHT
TZOFFSETFROM:-0800
TZOFFSETTO:-0700
TZNAME:PDT
DTSTART:20270314T100000
END:DAYLIGHT
BEGIN:STANDARD
TZOFFSETFROM:-0700
TZOFFSETTO:-0800
TZNAME:PST
DTSTART:20271107T090000
END:STANDARD
END:VTIMEZONE
BEGIN:VEVENT
DTSTART;TZID=America/Vancouver:20260310T090000
DTEND;TZID=America/Vancouver:20260310T110000
DTSTAMP:20260422T030246
CREATED:20250523T203755Z
LAST-MODIFIED:20250526T192519Z
UID:27984-1773133200-1773140400@cte.capilanou.ca
SUMMARY:Scholarly Inquiry Spring 2026 - Module 8
DESCRIPTION:Date: Seven Weeks (8 Modules)\nModule 1 – January 27 \nModule 2  – February 3\nModule 3 – asynchronous\nModule 4 – February 10\nModule 5 – February 17 (asynchronous)\nModule 6 – February 24\nModule 7 – March 3 (asynchronous)\nModule 8 – March 10 \nTime: 9:00 am – 11:00 am\nFacilitators: Bhuvinder Vaid \, Bettina Boyle\nDelivery Mode: ​​Online Bichronous (synchronous and asynchronous components)​ \n 
URL:https://cte.capilanou.ca/event/scholarly-inquiry-spring-2026-module-8/
LOCATION:Online
END:VEVENT
BEGIN:VEVENT
DTSTART;TZID=America/Vancouver:20260310T130000
DTEND;TZID=America/Vancouver:20260310T143000
DTSTAMP:20260422T030246
CREATED:20250526T230541Z
LAST-MODIFIED:20250819T215209Z
UID:28089-1773147600-1773153000@cte.capilanou.ca
SUMMARY:Multimedia and Interactive Learning – Spring 2026
DESCRIPTION:Multimedia and Interactive Learning – Spring 2026\n2/24/2026\, 1:00-2:30 pm \n3/10 2026\, 1:00-2:30 pm \n3/24 2026\, 1:00-2:30 pm \n4/7 2026\, 1:00-2:30 pm (final session in person) \n\nDelivery: ​Online Bichronous (synchronous and asynchronous components)\, Final Session – In-person \nFacilitators: Mary Watt\, ​​Chi Le \nDecades of research demonstrate that well-designed multimedia increases retention\, engagement\, and long-term information encoding. The research emphasizes “well-designed” multimedia for a reason – design choices matter. \nThis workshop explores both research-based design principles and practical applications for building multimedia and interactivity for learning and incorporating them into your assignments\, using accessible\, inexpensive tools. By the workshop’s conclusion\, you will have created several multimedia and interactive learning objects and developed a strategic plan for their effective implementation in your teaching.
URL:https://cte.capilanou.ca/event/multimedia-spring2026-3/
LOCATION:Online
END:VEVENT
END:VCALENDAR