BEGIN:VCALENDAR
VERSION:2.0
PRODID:-//Centre for Teaching Excellence - ECPv6.15.20//NONSGML v1.0//EN
CALSCALE:GREGORIAN
METHOD:PUBLISH
X-ORIGINAL-URL:https://cte.capilanou.ca
X-WR-CALDESC:Events for Centre for Teaching Excellence
REFRESH-INTERVAL;VALUE=DURATION:PT1H
X-Robots-Tag:noindex
X-PUBLISHED-TTL:PT1H
BEGIN:VTIMEZONE
TZID:America/Vancouver
BEGIN:DAYLIGHT
TZOFFSETFROM:-0800
TZOFFSETTO:-0700
TZNAME:PDT
DTSTART:20250309T100000
END:DAYLIGHT
BEGIN:STANDARD
TZOFFSETFROM:-0700
TZOFFSETTO:-0800
TZNAME:PST
DTSTART:20251102T090000
END:STANDARD
BEGIN:DAYLIGHT
TZOFFSETFROM:-0800
TZOFFSETTO:-0700
TZNAME:PDT
DTSTART:20260308T100000
END:DAYLIGHT
BEGIN:STANDARD
TZOFFSETFROM:-0700
TZOFFSETTO:-0800
TZNAME:PST
DTSTART:20261101T090000
END:STANDARD
BEGIN:DAYLIGHT
TZOFFSETFROM:-0800
TZOFFSETTO:-0700
TZNAME:PDT
DTSTART:20270314T100000
END:DAYLIGHT
BEGIN:STANDARD
TZOFFSETFROM:-0700
TZOFFSETTO:-0800
TZNAME:PST
DTSTART:20271107T090000
END:STANDARD
END:VTIMEZONE
BEGIN:VEVENT
DTSTART;TZID=America/Vancouver:20260305T100000
DTEND;TZID=America/Vancouver:20260305T120000
DTSTAMP:20260422T030246
CREATED:20250730T225555Z
LAST-MODIFIED:20260217T191412Z
UID:28486-1772704800-1772712000@cte.capilanou.ca
SUMMARY:Generative AI in Education Workshops  
DESCRIPTION:Generative AI in Education Workshops  \nPart 1: Teaching Critical Gen AI Literacy to Students \nDates and Times:\nMar 5 10:00am – 12:00pm\nOnline\nFacilitators: ​Lydia Watson & Barry Magrill \nBy participating in this workshop\, you will critically evaluate and integrate generative AI in your classroom so that you can effectively teach this to your students.   The workshop emphasizes understanding Generative AI’s limitations\, biases\, and ethical implications to empower students to use these tools thoughtfully and responsibly. You will also be given teaching tools that can be adapted for your own discipline. \nSign up now! \n 
URL:https://cte.capilanou.ca/event/generative-ai-in-education-workshops-mar-6/
LOCATION:Online
ORGANIZER;CN="Centre for Teaching Excellence":MAILTO:cte@capilanou.ca
END:VEVENT
END:VCALENDAR