BEGIN:VCALENDAR
VERSION:2.0
PRODID:-//Centre for Teaching Excellence - ECPv6.15.20//NONSGML v1.0//EN
CALSCALE:GREGORIAN
METHOD:PUBLISH
X-ORIGINAL-URL:https://cte.capilanou.ca
X-WR-CALDESC:Events for Centre for Teaching Excellence
REFRESH-INTERVAL;VALUE=DURATION:PT1H
X-Robots-Tag:noindex
X-PUBLISHED-TTL:PT1H
BEGIN:VTIMEZONE
TZID:America/Vancouver
BEGIN:DAYLIGHT
TZOFFSETFROM:-0800
TZOFFSETTO:-0700
TZNAME:PDT
DTSTART:20200308T100000
END:DAYLIGHT
BEGIN:STANDARD
TZOFFSETFROM:-0700
TZOFFSETTO:-0800
TZNAME:PST
DTSTART:20201101T090000
END:STANDARD
BEGIN:DAYLIGHT
TZOFFSETFROM:-0800
TZOFFSETTO:-0700
TZNAME:PDT
DTSTART:20210314T100000
END:DAYLIGHT
BEGIN:STANDARD
TZOFFSETFROM:-0700
TZOFFSETTO:-0800
TZNAME:PST
DTSTART:20211107T090000
END:STANDARD
BEGIN:DAYLIGHT
TZOFFSETFROM:-0800
TZOFFSETTO:-0700
TZNAME:PDT
DTSTART:20220313T100000
END:DAYLIGHT
BEGIN:STANDARD
TZOFFSETFROM:-0700
TZOFFSETTO:-0800
TZNAME:PST
DTSTART:20221106T090000
END:STANDARD
END:VTIMEZONE
BEGIN:VEVENT
DTSTART;VALUE=DATE:20210107
DTEND;VALUE=DATE:20210108
DTSTAMP:20260421T033528
CREATED:20201028T163607Z
LAST-MODIFIED:20210112T231901Z
UID:11174-1609977600-1610063999@cte.capilanou.ca
SUMMARY:Teaching with eLearn Thursdays
DESCRIPTION:These 30-min sessions will provide hands-on tutorials for moving your face-to-face course modules\, assessments\, etc. to eLearn. Each tutorial will focus on the “mechanics” of eLearn by walking you through the steps. Each session will answer a question “How do I …. on eLearn?”. If you would like to take this opportunity to learn from a faculty colleague\, sign up for one of the available sessions/dates. Resources related to each of sessions will also be provided. \nClick here to sign up now or for more information!
URL:https://cte.capilanou.ca/event/teaching-with-elearn-thursdays-10/
LOCATION:Capilano University\, 2055 Purcell Way\, North Vancouver\, BC\, V7J 3H5\, Canada
END:VEVENT
BEGIN:VEVENT
DTSTART;TZID=America/Vancouver:20210107T090000
DTEND;TZID=America/Vancouver:20210107T103000
DTSTAMP:20260421T033528
CREATED:20201215T191917Z
LAST-MODIFIED:20201215T201313Z
UID:12269-1610010000-1610015400@cte.capilanou.ca
SUMMARY:Convert your Syllabus to an eLearn Course (3-Part Workshop)
DESCRIPTION:CONVERT YOUR SYLLABUS TO AN ELEARN COURSE (3-PART WORKSHOP)\n\nJanuary Series:\n\n9:00 am – 10:30 am\nWednesday\, January 6\nThursday\, January 7\nFriday\, January 8\n\n\nThis three-part workshop guides participants through the process of building an online course from an existing syllabus. In parts one and two\, facilitators will demonstrate an approach to converting a syllabus into an online course in eLearn and participants will have opportunities to practice\, ask questions and get feedback. In part three\, we will meet again to discuss challenges and opportunities encountered and to share further strategies and next steps for building a clean and easy-to-follow eLearn course. \nSign up now!  https://cte.capilanou.ca/services/workshops/convert-syllabus/
URL:https://cte.capilanou.ca/event/convert-your-syllabus-to-an-elearn-course-3-part-workshop-2/
LOCATION:Capilano University\, 2055 Purcell Way\, North Vancouver\, BC\, V7J 3H5\, Canada
END:VEVENT
BEGIN:VEVENT
DTSTART;TZID=America/Vancouver:20210107T130000
DTEND;TZID=America/Vancouver:20210107T143000
DTSTAMP:20260421T033528
CREATED:20201211T183324Z
LAST-MODIFIED:20201211T183324Z
UID:12048-1610024400-1610029800@cte.capilanou.ca
SUMMARY:Engaging Students in Online Classes
DESCRIPTION:ENGAGING STUDENTS IN ONLINE CLASSES\nThursday\, January 7\, 2021\n1:00 pm – 2:30 pm via Zoom \nEngaging students asynchronously and synchronously increases their participation\, motivation\, and their sense of belonging. Learn effective strategies for engaging students and building a community of online learners.\nLearning Outcomes \nIdentify a social theory of learning and a framework that supports community building in your online class\nIdentify/explore teaching and learning strategies to facilitate building a community of online learners\nExplore tools to create interaction and engagement in your online course \n  \nSign up now! https://cte.capilanou.ca/services/workshops/engaging-students-online-classes/
URL:https://cte.capilanou.ca/event/engaging-students-in-online-classes/
LOCATION:Capilano University\, 2055 Purcell Way\, North Vancouver\, BC\, V7J 3H5\, Canada
END:VEVENT
END:VCALENDAR