BEGIN:VCALENDAR
VERSION:2.0
PRODID:-//Centre for Teaching Excellence - ECPv6.15.20//NONSGML v1.0//EN
CALSCALE:GREGORIAN
METHOD:PUBLISH
X-WR-CALNAME:Centre for Teaching Excellence
X-ORIGINAL-URL:https://cte.capilanou.ca
X-WR-CALDESC:Events for Centre for Teaching Excellence
REFRESH-INTERVAL;VALUE=DURATION:PT1H
X-Robots-Tag:noindex
X-PUBLISHED-TTL:PT1H
BEGIN:VTIMEZONE
TZID:America/Vancouver
BEGIN:DAYLIGHT
TZOFFSETFROM:-0800
TZOFFSETTO:-0700
TZNAME:PDT
DTSTART:20200308T100000
END:DAYLIGHT
BEGIN:STANDARD
TZOFFSETFROM:-0700
TZOFFSETTO:-0800
TZNAME:PST
DTSTART:20201101T090000
END:STANDARD
BEGIN:DAYLIGHT
TZOFFSETFROM:-0800
TZOFFSETTO:-0700
TZNAME:PDT
DTSTART:20210314T100000
END:DAYLIGHT
BEGIN:STANDARD
TZOFFSETFROM:-0700
TZOFFSETTO:-0800
TZNAME:PST
DTSTART:20211107T090000
END:STANDARD
BEGIN:DAYLIGHT
TZOFFSETFROM:-0800
TZOFFSETTO:-0700
TZNAME:PDT
DTSTART:20220313T100000
END:DAYLIGHT
BEGIN:STANDARD
TZOFFSETFROM:-0700
TZOFFSETTO:-0800
TZNAME:PST
DTSTART:20221106T090000
END:STANDARD
END:VTIMEZONE
BEGIN:VEVENT
DTSTART;VALUE=DATE:20210106
DTEND;VALUE=DATE:20210107
DTSTAMP:20260421T033346
CREATED:20201014T174408Z
LAST-MODIFIED:20201208T172401Z
UID:10620-1609891200-1609977599@cte.capilanou.ca
SUMMARY:Practice Sessions – Zoom
DESCRIPTION:PRACTICE SESSIONS\n\n\n\n\n\n\n\nBefore going live with your new screen-sharing\, breakout room\, white boarding\, etc. skills\, would you like a little practice? Sign up for one of CTE’s 1-hour Practice Sessions. 5 persons per session. \nPractice Sessions – Zoom\nJanuary 6\, 2021\n1:00 pm – 2:00 pm or 4:00 pm – 5:00 pm \nSign up now! \nhttps://cte.capilanou.ca/services/workshops/practice-sessions/ \n\nIf you have any questions\, please contact us at cte@capilanou.ca
URL:https://cte.capilanou.ca/event/practice-sessions-zoom-3/
LOCATION:Capilano University\, 2055 Purcell Way\, North Vancouver\, BC\, V7J 3H5\, Canada
END:VEVENT
BEGIN:VEVENT
DTSTART;TZID=America/Vancouver:20210106T090000
DTEND;TZID=America/Vancouver:20210106T103000
DTSTAMP:20260421T033346
CREATED:20201215T191725Z
LAST-MODIFIED:20201215T201401Z
UID:12267-1609923600-1609929000@cte.capilanou.ca
SUMMARY:Convert your Syllabus to an eLearn Course (3-Part Workshop)
DESCRIPTION:CONVERT YOUR SYLLABUS TO AN ELEARN COURSE (3-PART WORKSHOP)\n\nJanuary Series:\n\n9:00 am – 10:30 am\nWednesday\, January 6\nThursday\, January 7\nFriday\, January 8\n\n\nThis three-part workshop guides participants through the process of building an online course from an existing syllabus. In parts one and two\, facilitators will demonstrate an approach to converting a syllabus into an online course in eLearn and participants will have opportunities to practice\, ask questions and get feedback. In part three\, we will meet again to discuss challenges and opportunities encountered and to share further strategies and next steps for building a clean and easy-to-follow eLearn course. \nSign up now!  https://cte.capilanou.ca/services/workshops/convert-syllabus/
URL:https://cte.capilanou.ca/event/convert-your-syllabus-to-an-elearn-course-3-part-workshop/
LOCATION:Capilano University\, 2055 Purcell Way\, North Vancouver\, BC\, V7J 3H5\, Canada
END:VEVENT
BEGIN:VEVENT
DTSTART;TZID=America/Vancouver:20210106T113000
DTEND;TZID=America/Vancouver:20210106T123000
DTSTAMP:20260421T033346
CREATED:20201215T194420Z
LAST-MODIFIED:20201215T194420Z
UID:12280-1609932600-1609936200@cte.capilanou.ca
SUMMARY:Gradebook Guru
DESCRIPTION:GRADEBOOK GURU\nJanuary 6\, 2021\n11:30 am – 12:30 pm\nJanuary 12\, 2021\n10:00 am – 11:00 am \n\n\nWant to get the most out of your eLearn gradebook? In this workshop we will show you how to build your gradebook based on your course evaluation profile and planned assessments. Leave the workshop with a functioning gradebook! \n\nSign up now!  https://cte.capilanou.ca/services/workshops/gradebook-guru/ \n\n\nIf you have any questions\, please contact us at cte@capilanou.ca.
URL:https://cte.capilanou.ca/event/gradebook-guru/
LOCATION:Capilano University\, 2055 Purcell Way\, North Vancouver\, BC\, V7J 3H5\, Canada
END:VEVENT
BEGIN:VEVENT
DTSTART;TZID=America/Vancouver:20210106T143000
DTEND;TZID=America/Vancouver:20210106T153000
DTSTAMP:20260421T033346
CREATED:20201014T173856Z
LAST-MODIFIED:20201208T172341Z
UID:10610-1609943400-1609947000@cte.capilanou.ca
SUMMARY:Practice Sessions - MS Teams
DESCRIPTION:PRACTICE SESSIONS\n\n\n\n\n\n\n\nBefore going live with your new screen-sharing\, breakout room\, white boarding\, etc. skills\, would you like a little practice? Sign up for one of CTE’s 1-hour Practice Sessions. 5 persons per session. \nPractice Sessions – MS Teams\nJanuary 6\, 2021\n2:30 pm – 3:30 pm \nSign up now! \nhttps://cte.capilanou.ca/services/workshops/practice-sessions/ \n\nIf you have any questions\, please contact us at cte@capilanou.ca
URL:https://cte.capilanou.ca/event/practice-sessions-ms-teams-3/
LOCATION:Capilano University\, 2055 Purcell Way\, North Vancouver\, BC\, V7J 3H5\, Canada
END:VEVENT
END:VCALENDAR