BEGIN:VCALENDAR
VERSION:2.0
PRODID:-//Centre for Teaching Excellence - ECPv6.15.20//NONSGML v1.0//EN
CALSCALE:GREGORIAN
METHOD:PUBLISH
X-ORIGINAL-URL:https://cte.capilanou.ca
X-WR-CALDESC:Events for Centre for Teaching Excellence
REFRESH-INTERVAL;VALUE=DURATION:PT1H
X-Robots-Tag:noindex
X-PUBLISHED-TTL:PT1H
BEGIN:VTIMEZONE
TZID:America/Vancouver
BEGIN:DAYLIGHT
TZOFFSETFROM:-0800
TZOFFSETTO:-0700
TZNAME:PDT
DTSTART:20190310T100000
END:DAYLIGHT
BEGIN:STANDARD
TZOFFSETFROM:-0700
TZOFFSETTO:-0800
TZNAME:PST
DTSTART:20191103T090000
END:STANDARD
BEGIN:DAYLIGHT
TZOFFSETFROM:-0800
TZOFFSETTO:-0700
TZNAME:PDT
DTSTART:20200308T100000
END:DAYLIGHT
BEGIN:STANDARD
TZOFFSETFROM:-0700
TZOFFSETTO:-0800
TZNAME:PST
DTSTART:20201101T090000
END:STANDARD
BEGIN:DAYLIGHT
TZOFFSETFROM:-0800
TZOFFSETTO:-0700
TZNAME:PDT
DTSTART:20210314T100000
END:DAYLIGHT
BEGIN:STANDARD
TZOFFSETFROM:-0700
TZOFFSETTO:-0800
TZNAME:PST
DTSTART:20211107T090000
END:STANDARD
END:VTIMEZONE
BEGIN:VEVENT
DTSTART;VALUE=DATE:20201217
DTEND;VALUE=DATE:20201218
DTSTAMP:20260419T073313
CREATED:20201028T163301Z
LAST-MODIFIED:20201028T163301Z
UID:11172-1608163200-1608249599@cte.capilanou.ca
SUMMARY:Teaching with eLearn Thursdays
DESCRIPTION:These 30-min sessions will provide hands-on tutorials for moving your face-to-face course modules\, assessments\, etc. to eLearn. Each tutorial will focus on the “mechanics” of eLearn by walking you through the steps. Each session will answer a question “How do I …. on eLearn?”. If you would like to take this opportunity to learn from a faculty colleague\, sign up for one of the available sessions/dates. Resources related to each of sessions will also be provided. \nClick here to sign up now or for more information!
URL:https://cte.capilanou.ca/event/teaching-with-elearn-thursdays-9/
LOCATION:Capilano University\, 2055 Purcell Way\, North Vancouver\, BC\, V7J 3H5\, Canada
END:VEVENT
BEGIN:VEVENT
DTSTART;TZID=America/Vancouver:20201217T090000
DTEND;TZID=America/Vancouver:20201217T160000
DTSTAMP:20260419T073313
CREATED:20200928T180451Z
LAST-MODIFIED:20201202T181441Z
UID:10061-1608195600-1608220800@cte.capilanou.ca
SUMMARY:ISW Instructional Skills Workshop  – Remote Adapted for Fall  2020
DESCRIPTION:ISW INSTRUCTIONAL SKILLS WORKSHOP  – REMOTE ADAPTED FOR FALL 2020\nWe are offering the ISWs in a remote format (including synchronous and asynchronous sessions) with slightly adjusted schedules. While the curriculum is still based on the ISW (link to description on website)\, participants will also have the opportunity to experience effective remote teaching approaches. Commitment to all synchronous sessions and up to 15 hours of asynchronous self-paced work during the workshop is a must. Limit to 5 participants. \n****Sorry\, it is full. Please contact cte@capilanou.ca for the waitlist. \nFour Synchronous Sessions:\nDecember 9     9:00am-1:30pm\nDecember 10   9:00am-2:40pm\nDecember 16   9:00am-2:40pm\nDecember 17   9:00am-4:00pm \nThe Instructional Skills Workshop is an internationally recognized program designed to enhance teaching effectiveness of both new and experienced educators. The ISW is an intensive 24 hour peer-based experiential workshop grounded in learning-centered instruction. \nDuring the workshop\, participants design and deliver three 10 minute lessons and receive feedback from their peers in a supportive environment. Participants are provided with information on the theory and practice of teaching adult learners\, writing learning objectives with accompanying lesson plans\, techniques for encouraging active learning\, and suggestions for evaluation of learning\, and engage in reflective practice. The ISW counts as a three credit course in the Provincial Instructor Diploma Program (PIDP 3220: Delivery of Instruction). \n 
URL:https://cte.capilanou.ca/event/isw-instructional-skills-workshop-remote-adapted-for-fall-2020-4/
LOCATION:Capilano University\, 2055 Purcell Way\, North Vancouver\, BC\, V7J 3H5\, Canada
END:VEVENT
BEGIN:VEVENT
DTSTART;TZID=America/Vancouver:20201217T100000
DTEND;TZID=America/Vancouver:20201217T113000
DTSTAMP:20260419T073313
CREATED:20201023T164238Z
LAST-MODIFIED:20201023T164238Z
UID:10886-1608199200-1608204600@cte.capilanou.ca
SUMMARY:Creating Community in Online Courses in Zoom
DESCRIPTION:CREATING COMMUNITY IN ONLINE COURSES IN ZOOM\nThursday December 17\, 2020\n10:00 am – 11:30 am via Zoom\n\n\nBuilding a community of learners in an online course rewards student participation and increases student motivation. Learn effective strategies for building a community of online learners and how to use technology to do it. \n\nSign up now!  https://cte.capilanou.ca/services/workshops/creating-community-in-online/ \nIf you have any questions\, please contact us at cte@capilanou.ca.\n\n\n 
URL:https://cte.capilanou.ca/event/creating-community-in-online-courses-in-zoom/
LOCATION:Capilano University\, 2055 Purcell Way\, North Vancouver\, BC\, V7J 3H5\, Canada
END:VEVENT
END:VCALENDAR