BEGIN:VCALENDAR
VERSION:2.0
PRODID:-//Centre for Teaching Excellence - ECPv6.15.20//NONSGML v1.0//EN
CALSCALE:GREGORIAN
METHOD:PUBLISH
X-ORIGINAL-URL:https://cte.capilanou.ca
X-WR-CALDESC:Events for Centre for Teaching Excellence
REFRESH-INTERVAL;VALUE=DURATION:PT1H
X-Robots-Tag:noindex
X-PUBLISHED-TTL:PT1H
BEGIN:VTIMEZONE
TZID:America/Vancouver
BEGIN:DAYLIGHT
TZOFFSETFROM:-0800
TZOFFSETTO:-0700
TZNAME:PDT
DTSTART:20190310T100000
END:DAYLIGHT
BEGIN:STANDARD
TZOFFSETFROM:-0700
TZOFFSETTO:-0800
TZNAME:PST
DTSTART:20191103T090000
END:STANDARD
BEGIN:DAYLIGHT
TZOFFSETFROM:-0800
TZOFFSETTO:-0700
TZNAME:PDT
DTSTART:20200308T100000
END:DAYLIGHT
BEGIN:STANDARD
TZOFFSETFROM:-0700
TZOFFSETTO:-0800
TZNAME:PST
DTSTART:20201101T090000
END:STANDARD
BEGIN:DAYLIGHT
TZOFFSETFROM:-0800
TZOFFSETTO:-0700
TZNAME:PDT
DTSTART:20210314T100000
END:DAYLIGHT
BEGIN:STANDARD
TZOFFSETFROM:-0700
TZOFFSETTO:-0800
TZNAME:PST
DTSTART:20211107T090000
END:STANDARD
END:VTIMEZONE
BEGIN:VEVENT
DTSTART;TZID=America/Vancouver:20201215T100000
DTEND;TZID=America/Vancouver:20201215T113000
DTSTAMP:20260419T061022
CREATED:20200915T192723Z
LAST-MODIFIED:20200918T160807Z
UID:9272-1608026400-1608031800@cte.capilanou.ca
SUMMARY:Convert your Syllabus to an eLearn Course (Part 2)
DESCRIPTION:Part 2 – Tuesday\, December 15\, 10:00-11:30\nThis three-part workshop guides participants through the process of building an online course from an existing syllabus. In parts one and two\, facilitators will demonstrate an approach to converting a syllabus into an online course in eLearn and participants will have opportunities to practice\, ask questions and get feedback. In part three\, we will meet again to discuss challenges and opportunities encountered and to share further strategies and next steps for building a clean and easy-to-follow eLearn course. \nFollowing session\nPart 3 – Friday\, December 18\, 10:00-11:30 \nPlease sign up from the registration form on the right.
URL:https://cte.capilanou.ca/event/convert-your-syllabus-to-an-elearn-course-part-2-3/
LOCATION:Capilano University\, 2055 Purcell Way\, North Vancouver\, BC\, V7J 3H5\, Canada
END:VEVENT
BEGIN:VEVENT
DTSTART;TZID=America/Vancouver:20201215T130000
DTEND;TZID=America/Vancouver:20201215T140000
DTSTAMP:20260419T061022
CREATED:20201203T190510Z
LAST-MODIFIED:20201203T190510Z
UID:11890-1608037200-1608040800@cte.capilanou.ca
SUMMARY:Teaching with MS Teams Series
DESCRIPTION:Part 2: Going Live\nDecember 15\, 2020\n1:00 pm – 2:00 pm \nPart 3: Managing Your Online Classroom\nDecember 16\, 2020\n10:00 am – 11:00 am \nPart 4: Building an Engaged Classroom Community\nTBA \nMicrosoft Teams provides a digital platform that can be used to host your synchronous class. This hands-on tutorial walks you through hosting a live class including: sharing your screen\, using the whiteboard and managing breakout rooms. \nSign up now! https://cte.capilanou.ca/services/workshops/introduction-to-ms-teams/
URL:https://cte.capilanou.ca/event/teaching-with-ms-teams-series-2/
LOCATION:Capilano University\, 2055 Purcell Way\, North Vancouver\, BC\, V7J 3H5\, Canada
END:VEVENT
END:VCALENDAR