BEGIN:VCALENDAR
VERSION:2.0
PRODID:-//Centre for Teaching Excellence - ECPv6.15.20//NONSGML v1.0//EN
CALSCALE:GREGORIAN
METHOD:PUBLISH
X-ORIGINAL-URL:https://cte.capilanou.ca
X-WR-CALDESC:Events for Centre for Teaching Excellence
REFRESH-INTERVAL;VALUE=DURATION:PT1H
X-Robots-Tag:noindex
X-PUBLISHED-TTL:PT1H
BEGIN:VTIMEZONE
TZID:America/Vancouver
BEGIN:DAYLIGHT
TZOFFSETFROM:-0800
TZOFFSETTO:-0700
TZNAME:PDT
DTSTART:20190310T100000
END:DAYLIGHT
BEGIN:STANDARD
TZOFFSETFROM:-0700
TZOFFSETTO:-0800
TZNAME:PST
DTSTART:20191103T090000
END:STANDARD
BEGIN:DAYLIGHT
TZOFFSETFROM:-0800
TZOFFSETTO:-0700
TZNAME:PDT
DTSTART:20200308T100000
END:DAYLIGHT
BEGIN:STANDARD
TZOFFSETFROM:-0700
TZOFFSETTO:-0800
TZNAME:PST
DTSTART:20201101T090000
END:STANDARD
BEGIN:DAYLIGHT
TZOFFSETFROM:-0800
TZOFFSETTO:-0700
TZNAME:PDT
DTSTART:20210314T100000
END:DAYLIGHT
BEGIN:STANDARD
TZOFFSETFROM:-0700
TZOFFSETTO:-0800
TZNAME:PST
DTSTART:20211107T090000
END:STANDARD
END:VTIMEZONE
BEGIN:VEVENT
DTSTART;TZID=America/Vancouver:20201211T110000
DTEND;TZID=America/Vancouver:20201211T120000
DTSTAMP:20260419T060647
CREATED:20201203T182452Z
LAST-MODIFIED:20201203T185619Z
UID:11876-1607684400-1607688000@cte.capilanou.ca
SUMMARY:Teaching with MS Teams Series
DESCRIPTION:Why MS Teams (vs. Zoom)?: Making your Video-Conferencing Decision\nDecember 11\, 2020\n11:00 am – 12:00 pm \nPart 1: The Basics\nDecember 14\, 2020\n1:00 pm – 2:00 pm \nPart 2: Going Live\nDecember 15\, 2020\n1:00 pm – 2:00 pm \nPart 3: Managing Your Online Classroom\nDecember 16\, 2020\n10:00 am – 11:00 am \nPart 4: Building an Engaged Classroom Community\nTBA \nCapU promises students a “different learning experience” – small class sizes\, hands-on learning and a sense of community. This Q-and-A discussion session explains how MS Teams can help faculty to deliver on this promise. Each attendee will have the opportunity to discuss their course and figure out whether MS Teams is the best fit. \nPlease sign up now! https://cte.capilanou.ca/services/workshops/introduction-to-ms-teams/
URL:https://cte.capilanou.ca/event/why-ms-teams-vs-zoom-making-your-video-conferencing-decision/
LOCATION:Capilano University\, 2055 Purcell Way\, North Vancouver\, BC\, V7J 3H5\, Canada
END:VEVENT
END:VCALENDAR