BEGIN:VCALENDAR
VERSION:2.0
PRODID:-//Centre for Teaching Excellence - ECPv6.15.20//NONSGML v1.0//EN
CALSCALE:GREGORIAN
METHOD:PUBLISH
X-WR-CALNAME:Centre for Teaching Excellence
X-ORIGINAL-URL:https://cte.capilanou.ca
X-WR-CALDESC:Events for Centre for Teaching Excellence
REFRESH-INTERVAL;VALUE=DURATION:PT1H
X-Robots-Tag:noindex
X-PUBLISHED-TTL:PT1H
BEGIN:VTIMEZONE
TZID:America/Vancouver
BEGIN:DAYLIGHT
TZOFFSETFROM:-0800
TZOFFSETTO:-0700
TZNAME:PDT
DTSTART:20190310T100000
END:DAYLIGHT
BEGIN:STANDARD
TZOFFSETFROM:-0700
TZOFFSETTO:-0800
TZNAME:PST
DTSTART:20191103T090000
END:STANDARD
BEGIN:DAYLIGHT
TZOFFSETFROM:-0800
TZOFFSETTO:-0700
TZNAME:PDT
DTSTART:20200308T100000
END:DAYLIGHT
BEGIN:STANDARD
TZOFFSETFROM:-0700
TZOFFSETTO:-0800
TZNAME:PST
DTSTART:20201101T090000
END:STANDARD
BEGIN:DAYLIGHT
TZOFFSETFROM:-0800
TZOFFSETTO:-0700
TZNAME:PDT
DTSTART:20210314T100000
END:DAYLIGHT
BEGIN:STANDARD
TZOFFSETFROM:-0700
TZOFFSETTO:-0800
TZNAME:PST
DTSTART:20211107T090000
END:STANDARD
END:VTIMEZONE
BEGIN:VEVENT
DTSTART;TZID=America/Vancouver:20201201T130000
DTEND;TZID=America/Vancouver:20201201T142000
DTSTAMP:20260419T060436
CREATED:20200925T202855Z
LAST-MODIFIED:20200925T202855Z
UID:10039-1606827600-1606832400@cte.capilanou.ca
SUMMARY:CTE Book Club via Zoom
DESCRIPTION:Our book choice this fall is Small Teaching Online: Applying Learning Science in Online Classes by Darby\, F. and Lang\, J.M. (2019). The book offers helpful techniques for engaging students in online learning environments\, including hands-on suggestions you can use immediately. Join us for lively discussions and sharing with colleagues. \nFive Tuesdays\nStarting October 6\, 2020\nOctober 6\nOctober 20\nNovember 3\nNovember 17\nDecember 1 \n1:00 pm-2:20 pm \nMust commit to attend all five sessions! \nPlease sign up! https://cte.capilanou.ca/workshops/cte%20book%20club/
URL:https://cte.capilanou.ca/event/cte-book-club-via-zoom-5/
LOCATION:Capilano University\, 2055 Purcell Way\, North Vancouver\, BC\, V7J 3H5\, Canada
END:VEVENT
END:VCALENDAR