BEGIN:VCALENDAR
VERSION:2.0
PRODID:-//Centre for Teaching Excellence - ECPv6.15.20//NONSGML v1.0//EN
CALSCALE:GREGORIAN
METHOD:PUBLISH
X-WR-CALNAME:Centre for Teaching Excellence
X-ORIGINAL-URL:https://cte.capilanou.ca
X-WR-CALDESC:Events for Centre for Teaching Excellence
REFRESH-INTERVAL;VALUE=DURATION:PT1H
X-Robots-Tag:noindex
X-PUBLISHED-TTL:PT1H
BEGIN:VTIMEZONE
TZID:America/Vancouver
BEGIN:DAYLIGHT
TZOFFSETFROM:-0800
TZOFFSETTO:-0700
TZNAME:PDT
DTSTART:20190310T100000
END:DAYLIGHT
BEGIN:STANDARD
TZOFFSETFROM:-0700
TZOFFSETTO:-0800
TZNAME:PST
DTSTART:20191103T090000
END:STANDARD
BEGIN:DAYLIGHT
TZOFFSETFROM:-0800
TZOFFSETTO:-0700
TZNAME:PDT
DTSTART:20200308T100000
END:DAYLIGHT
BEGIN:STANDARD
TZOFFSETFROM:-0700
TZOFFSETTO:-0800
TZNAME:PST
DTSTART:20201101T090000
END:STANDARD
BEGIN:DAYLIGHT
TZOFFSETFROM:-0800
TZOFFSETTO:-0700
TZNAME:PDT
DTSTART:20210314T100000
END:DAYLIGHT
BEGIN:STANDARD
TZOFFSETFROM:-0700
TZOFFSETTO:-0800
TZNAME:PST
DTSTART:20211107T090000
END:STANDARD
END:VTIMEZONE
BEGIN:VEVENT
DTSTART;TZID=America/Vancouver:20201125T090000
DTEND;TZID=America/Vancouver:20201125T102000
DTSTAMP:20260419T073255
CREATED:20201013T193104Z
LAST-MODIFIED:20201013T193149Z
UID:10497-1606294800-1606299600@cte.capilanou.ca
SUMMARY:Design your Discussion Forum Activity for Spring 2021
DESCRIPTION:DESIGN YOUR DISCUSSION FORUM ACTIVITY FOR SPRING 2021\n\nWednesday\, November 25\, 2020\n9:00 am – 10:20 am \nIn this workshop\, you will re-design an existing asynchronous discussion and receive feedback from peers. Come away with a ready-to-implement activity for Spring 2021! \n\nSign up now! https://cte.capilanou.ca/services/workshops/design-forum-2021/\n\n\n 
URL:https://cte.capilanou.ca/event/design-your-discussion-forum-activity-for-spring-2021/
LOCATION:Capilano University\, 2055 Purcell Way\, North Vancouver\, BC\, V7J 3H5\, Canada
END:VEVENT
END:VCALENDAR