BEGIN:VCALENDAR
VERSION:2.0
PRODID:-//Centre for Teaching Excellence - ECPv6.15.20//NONSGML v1.0//EN
CALSCALE:GREGORIAN
METHOD:PUBLISH
X-ORIGINAL-URL:https://cte.capilanou.ca
X-WR-CALDESC:Events for Centre for Teaching Excellence
REFRESH-INTERVAL;VALUE=DURATION:PT1H
X-Robots-Tag:noindex
X-PUBLISHED-TTL:PT1H
BEGIN:VTIMEZONE
TZID:America/Vancouver
BEGIN:DAYLIGHT
TZOFFSETFROM:-0800
TZOFFSETTO:-0700
TZNAME:PDT
DTSTART:20190310T100000
END:DAYLIGHT
BEGIN:STANDARD
TZOFFSETFROM:-0700
TZOFFSETTO:-0800
TZNAME:PST
DTSTART:20191103T090000
END:STANDARD
BEGIN:DAYLIGHT
TZOFFSETFROM:-0800
TZOFFSETTO:-0700
TZNAME:PDT
DTSTART:20200308T100000
END:DAYLIGHT
BEGIN:STANDARD
TZOFFSETFROM:-0700
TZOFFSETTO:-0800
TZNAME:PST
DTSTART:20201101T090000
END:STANDARD
BEGIN:DAYLIGHT
TZOFFSETFROM:-0800
TZOFFSETTO:-0700
TZNAME:PDT
DTSTART:20210314T100000
END:DAYLIGHT
BEGIN:STANDARD
TZOFFSETFROM:-0700
TZOFFSETTO:-0800
TZNAME:PST
DTSTART:20211107T090000
END:STANDARD
END:VTIMEZONE
BEGIN:VEVENT
DTSTART;TZID=America/Vancouver:20201109T090000
DTEND;TZID=America/Vancouver:20201109T100000
DTSTAMP:20260419T073715
CREATED:20201009T155457Z
LAST-MODIFIED:20201009T160016Z
UID:10394-1604912400-1604916000@cte.capilanou.ca
SUMMARY:Moving Beyond Multiple Choice – Workshop Series
DESCRIPTION:MOVING BEYOND MULTIPLE CHOICE – WORKSHOP SERIES\nMoving Beyond Multiple Choice (Introduction) – Nov 9\, 9:00 – 10:00 am\n\nDeveloping Effective Learning Outcomes – Nov 16\, 11:00am – 12:00 pm\n\nWriting Meaningful Test Questions – Nov 23\, 10:00 am -11:00 am\n\nCreating Effective Rubrics – Nov 30\, 1:00 pm -2:00 pm\n\nDesigning Alternative Assessments – Dec 7\, 2:00 pm -3:00 pm\n\n\n\n\n\n\n  \nIn this workshop series\, participants can take all workshops in step or pick and choose in alignment with their interests. Across the series we’ll develop short- and long-term strategies for moving beyond multiple-choice exams to create meaningful assessments. Participants will: · Articulate reasons for assessment · Align learning outcomes with assessments · Develop higher-order test questions · Design alternative assessment methods \n\nIf you have any questions\, please contact us at cte@capilanou.ca. \n\nRegister Now! https://cte.capilanou.ca/services/workshops/moving-beyond/
URL:https://cte.capilanou.ca/event/moving-beyond-multiple-choice-workshop-series/
LOCATION:Capilano University\, 2055 Purcell Way\, North Vancouver\, BC\, V7J 3H5\, Canada
END:VEVENT
BEGIN:VEVENT
DTSTART;TZID=America/Vancouver:20201109T100000
DTEND;TZID=America/Vancouver:20201109T113000
DTSTAMP:20260419T073715
CREATED:20200915T191341Z
LAST-MODIFIED:20200918T190102Z
UID:9264-1604916000-1604921400@cte.capilanou.ca
SUMMARY:Convert your Syllabus to an eLearn Course (Part 1)
DESCRIPTION:Part 1 –  Monday\, November 9\, 10:00-11:30\n\nThis three-part workshop guides participants through the process of building an online course from an existing syllabus. In parts one and two\, facilitators will demonstrate an approach to converting a syllabus into an online course in eLearn and participants will have opportunities to practice\, ask questions and get feedback. In part three\, we will meet again to discuss challenges and opportunities encountered and to share further strategies and next steps for building a clean and easy-to-follow eLearn course. \nFollowing workshops\nPart 2 – Tuesday\, November 10\, 10:00-11:30\nPart 3 – Friday\, November 13\, 10:00-11:30 \nPlease sign up from the registration form on the right.
URL:https://cte.capilanou.ca/event/convert-your-syllabus-to-an-elearn-course-part-1-3/
LOCATION:Capilano University\, 2055 Purcell Way\, North Vancouver\, BC\, V7J 3H5\, Canada
END:VEVENT
BEGIN:VEVENT
DTSTART;TZID=America/Vancouver:20201109T113000
DTEND;TZID=America/Vancouver:20201109T130000
DTSTAMP:20260419T073715
CREATED:20201106T171456Z
LAST-MODIFIED:20201106T171848Z
UID:11378-1604921400-1604926800@cte.capilanou.ca
SUMMARY:Fall 2020 ePortfolio Drop-in Online Support Hours Drop-in
DESCRIPTION:FALL 2020 EPORTFOLIO DROP-IN ONLINE SUPPORT HOURS DROP-IN \n11:30 AM -1:00 PM\nNov 9\, 23 & Dec 14\, 2020 \nNew to ePortfolios? Want to find out what they are all about? Already using\nePortfolios and want to build new projects? Are your students doing projects and need help setting their ePortfolio up? All of these are good reasons to visit our\nePortfolio drop-in support hours. Brian Ganter\, our ePortfolio lead\, will respond to questions and concerns one-on-one. Faculty and students are both welcome. \nLink to join
URL:https://cte.capilanou.ca/event/fall-2020-eportfolio-drop-in-online-support-hours-drop-in/
LOCATION:Capilano University\, 2055 Purcell Way\, North Vancouver\, BC\, V7J 3H5\, Canada
END:VEVENT
END:VCALENDAR