BEGIN:VCALENDAR
VERSION:2.0
PRODID:-//Centre for Teaching Excellence - ECPv6.15.20//NONSGML v1.0//EN
CALSCALE:GREGORIAN
METHOD:PUBLISH
X-ORIGINAL-URL:https://cte.capilanou.ca
X-WR-CALDESC:Events for Centre for Teaching Excellence
REFRESH-INTERVAL;VALUE=DURATION:PT1H
X-Robots-Tag:noindex
X-PUBLISHED-TTL:PT1H
BEGIN:VTIMEZONE
TZID:America/Vancouver
BEGIN:DAYLIGHT
TZOFFSETFROM:-0800
TZOFFSETTO:-0700
TZNAME:PDT
DTSTART:20190310T100000
END:DAYLIGHT
BEGIN:STANDARD
TZOFFSETFROM:-0700
TZOFFSETTO:-0800
TZNAME:PST
DTSTART:20191103T090000
END:STANDARD
BEGIN:DAYLIGHT
TZOFFSETFROM:-0800
TZOFFSETTO:-0700
TZNAME:PDT
DTSTART:20200308T100000
END:DAYLIGHT
BEGIN:STANDARD
TZOFFSETFROM:-0700
TZOFFSETTO:-0800
TZNAME:PST
DTSTART:20201101T090000
END:STANDARD
BEGIN:DAYLIGHT
TZOFFSETFROM:-0800
TZOFFSETTO:-0700
TZNAME:PDT
DTSTART:20210314T100000
END:DAYLIGHT
BEGIN:STANDARD
TZOFFSETFROM:-0700
TZOFFSETTO:-0800
TZNAME:PST
DTSTART:20211107T090000
END:STANDARD
END:VTIMEZONE
BEGIN:VEVENT
DTSTART;VALUE=DATE:20201102
DTEND;VALUE=DATE:20201107
DTSTAMP:20260419T073412
CREATED:20201020T173104Z
LAST-MODIFIED:20201020T173104Z
UID:10825-1604275200-1604707199@cte.capilanou.ca
SUMMARY:Open Classroom Week
DESCRIPTION:OPEN CLASSROOM WEEK – FIVE DAYS OF ONLINE CLASS VISIT OPPORTUNITIES\nNovember 2 – November 6\, 2020\nKick-off Monday November 2nd – 9:00 am – 10:00 am\nWrap-Up Friday November 6th – 3:00 pm – 4:00 pm \nFeeling isolated in your remote teaching space this fall?\nLooking for inspiration\, reflection and dialogue on your remote adapted teaching this fall? \nJoin us for Open Classroom Week! \nThe week will start with a live kick-off Zoom session\, then during Open Classroom Week a set of classes will be ‘opened’ for you to visit. Visit one or all\, and in the process reflect on what can be learned about your own teaching. You can choose to open your own classroom (synchronous or asynchronous). The week will close with a Zoom session on Friday as we reflect on what we’ve learned. \nA schedule of specific open classrooms and times will be made available to everyone who signs up. \nExpect appreciative dialogue with colleagues and new insights and ideas into teaching and learning to add to your (remote adapted) teaching repertoire. \nTime commitment: Time required is up to you\, depending on how many classes you decide to join. Participation in the pre-meeting and the wrap-up is recommended but not required. \nSign up for the week here https://cte.capilanou.ca/services/workshops/open-classroom-week/ \nSign up to open up your synchronous and/or asynchronous classroom (You decide on max number of visitors and CTE will help you coordinate visits)
URL:https://cte.capilanou.ca/event/open-classroom-week/
LOCATION:Capilano University\, 2055 Purcell Way\, North Vancouver\, BC\, V7J 3H5\, Canada
END:VEVENT
BEGIN:VEVENT
DTSTART;TZID=America/Vancouver:20201103T130000
DTEND;TZID=America/Vancouver:20201103T142000
DTSTAMP:20260419T073412
CREATED:20200925T202243Z
LAST-MODIFIED:20200925T202243Z
UID:10033-1604408400-1604413200@cte.capilanou.ca
SUMMARY:CTE Book Club via Zoom
DESCRIPTION:Our book choice this fall is Small Teaching Online: Applying Learning Science in Online Classes by Darby\, F. and Lang\, J.M. (2019). The book offers helpful techniques for engaging students in online learning environments\, including hands-on suggestions you can use immediately. Join us for lively discussions and sharing with colleagues. \nFive Tuesdays\nStarting October 6\, 2020\nOctober 6\nOctober 20\nNovember 3\nNovember 17\nDecember 1 \n1:00 pm-2:20 pm \nMust commit to attend all five sessions! \nPlease sign up! https://cte.capilanou.ca/workshops/cte%20book%20club/
URL:https://cte.capilanou.ca/event/cte-book-club-via-zoom-3/
LOCATION:Capilano University\, 2055 Purcell Way\, North Vancouver\, BC\, V7J 3H5\, Canada
END:VEVENT
END:VCALENDAR