BEGIN:VCALENDAR
VERSION:2.0
PRODID:-//Centre for Teaching Excellence - ECPv6.15.20//NONSGML v1.0//EN
CALSCALE:GREGORIAN
METHOD:PUBLISH
X-WR-CALNAME:Centre for Teaching Excellence
X-ORIGINAL-URL:https://cte.capilanou.ca
X-WR-CALDESC:Events for Centre for Teaching Excellence
REFRESH-INTERVAL;VALUE=DURATION:PT1H
X-Robots-Tag:noindex
X-PUBLISHED-TTL:PT1H
BEGIN:VTIMEZONE
TZID:America/Vancouver
BEGIN:DAYLIGHT
TZOFFSETFROM:-0800
TZOFFSETTO:-0700
TZNAME:PDT
DTSTART:20190310T100000
END:DAYLIGHT
BEGIN:STANDARD
TZOFFSETFROM:-0700
TZOFFSETTO:-0800
TZNAME:PST
DTSTART:20191103T090000
END:STANDARD
BEGIN:DAYLIGHT
TZOFFSETFROM:-0800
TZOFFSETTO:-0700
TZNAME:PDT
DTSTART:20200308T100000
END:DAYLIGHT
BEGIN:STANDARD
TZOFFSETFROM:-0700
TZOFFSETTO:-0800
TZNAME:PST
DTSTART:20201101T090000
END:STANDARD
BEGIN:DAYLIGHT
TZOFFSETFROM:-0800
TZOFFSETTO:-0700
TZNAME:PDT
DTSTART:20210314T100000
END:DAYLIGHT
BEGIN:STANDARD
TZOFFSETFROM:-0700
TZOFFSETTO:-0800
TZNAME:PST
DTSTART:20211107T090000
END:STANDARD
END:VTIMEZONE
BEGIN:VEVENT
DTSTART;VALUE=DATE:20201019
DTEND;VALUE=DATE:20201031
DTSTAMP:20260419T085829
CREATED:20201006T154232Z
LAST-MODIFIED:20201006T154719Z
UID:10316-1603065600-1604102399@cte.capilanou.ca
SUMMARY:Active Learning Online
DESCRIPTION:Two-weeks   online\n\n\n\n\nOctober 19\, 26 & 30\, 2020 \nLive Sessions dates/times:\nMonday\, October 19\, 10:00 -11:00 am\nMonday\, October  26\, 10:00 -11:00 am\nFriday\, October 30\, 10:00-11:30 am \n  \nThis 2-week workshop is developed specifically for CapU faculty interested in complementing or rethinking a course with active learning activities online. The course emphasizes the value of collaboration with peers online\, and models active learning examples in order to facilitate understanding and reflection of the online learner experience. Participants will draw upon existing teaching experience as they experiment with a practical learning activity of their own choice online and gain feedback from peers. Participants can expect to spend 8-10 hours per week on the workshop. \nThe workshop will prepare you to: \n\nDemonstrate an Ed Tech Tool or Online Learning Process based on active learning\nAdopt/develop a student-centered active learning approach to online learning\n\nLearning Strategies: \n\nExperience active learning in action\nExplore how to elevate the student learning experience and include active learning strategies in the online component of their course(s)\nMap out an active online learning process\, which supports student learning and learning outcomes\n\nLearning Platforms: \nThe workshop will take place online\, primarily in Moodle and WebEx. Live online session is scheduled as above. (The live session will be recorded\, however\, since we will demo active learning\, it’s recommended that you participate if at all possible) \nTime Commitment: 8-10 hours/week\, mostly self-paced. \nRegister now! https://cte.capilanou.ca/workshops/alo/
URL:https://cte.capilanou.ca/event/active-learning-online-4/
LOCATION:Capilano University\, 2055 Purcell Way\, North Vancouver\, BC\, V7J 3H5\, Canada
END:VEVENT
BEGIN:VEVENT
DTSTART;VALUE=DATE:20201022
DTEND;VALUE=DATE:20201023
DTSTAMP:20260419T085829
CREATED:20201019T200920Z
LAST-MODIFIED:20201019T203707Z
UID:10797-1603324800-1603411199@cte.capilanou.ca
SUMMARY:Teaching with eLearn Thursdays
DESCRIPTION:These 30-min sessions will provide hands-on tutorials for moving your face-to-face course modules\, assessments\, etc. to eLearn. Each tutorial will focus on the “mechanics” of eLearn by walking you through the steps. Each session will answer a question “How do I …. on eLearn?”. If you would like to take this opportunity to learn from a faculty colleague\, sign up for one of the available sessions/dates. Resources related to each of sessions will also be provided. \nHOW DO I DO CREATE GROUPS ON ELEARN?\n10:00 am & 1:30 pm\nThis 30 min session is a hands-on tutorial for creating groups or allowing students to select their groups using eLearn.  The tutorial will focus on the “mechanics” of eLearn\, walking you through the steps.  If you would like to take this opportunity to learn from a faculty colleague\, sign up for one of the available dates. \nHOW DO I DO A GROUP PRESENTATION ASSIGNMENT IN ELEARN?\n10:30 am & 2:00 pm\neLearn does not offer the option to have a live audience for a “traditional” group presentation in front of class (Zoom\, MS Teams or WebEx offer this option).  This 30 min session is a hands-on tutorial for creating\, grading and having students view (asynchronously) a group presentation in eLearn.  The tutorial will focus on the “mechanics” of eLearn\, walking you through the steps.  If you would like to take this opportunity to learn from a faculty colleague\, sign up for one of the available dates. \nHOW DO I GRADE A GROUP PROJECT/PRESENTATION IN ELEARN?\n11:00 am & 2:30 pm\nThis 30 min session is a hands-on tutorial for grading a group submission on eLearn. The tutorial will focus on the “mechanics” of eLearn\, walking you through the steps required. If you would like to take this opportunity to learn from a faculty colleague\, sign up for one of the available dates. \n\nHOW DO I PROVIDE FEEDBACK ON A GROUP PROJECT/PRESENTATION IN ELEARN?\n12:00 pm & 3:00 pm\nThis 30 min session is a hands-on tutorial for providing feedback on a group project/presentation in eLearn – written comments on the submission\, summary comments\, highlighting\, check marks\, etc. The tutorial will focus on the “mechanics” of eLearn\, walking you through the steps. If you would like to take this opportunity to learn from a faculty colleague\, sign up for one of the available dates. \nHOW DO I DO PEER EVALUATION ON ELEARN?\n12:30 pm & 4:00 pm\nThis 30 min session is a hands-on tutorial for moving an existing Peer Evaluation form onto eLearn. The tutorial will focus on the “mechanics” of eLearn\, walking you through the steps. If you would like to take this opportunity to learn from a faculty colleague\, sign up for one of the available dates. \nSign up now at https://cte.capilanou.ca/services/workshops/elearn-thursdays/
URL:https://cte.capilanou.ca/event/teaching-with-elearn-thursdays-2/
LOCATION:Capilano University\, 2055 Purcell Way\, North Vancouver\, BC\, V7J 3H5\, Canada
END:VEVENT
END:VCALENDAR