BEGIN:VCALENDAR
VERSION:2.0
PRODID:-//Centre for Teaching Excellence - ECPv6.15.20//NONSGML v1.0//EN
CALSCALE:GREGORIAN
METHOD:PUBLISH
X-WR-CALNAME:Centre for Teaching Excellence
X-ORIGINAL-URL:https://cte.capilanou.ca
X-WR-CALDESC:Events for Centre for Teaching Excellence
REFRESH-INTERVAL;VALUE=DURATION:PT1H
X-Robots-Tag:noindex
X-PUBLISHED-TTL:PT1H
BEGIN:VTIMEZONE
TZID:America/Vancouver
BEGIN:DAYLIGHT
TZOFFSETFROM:-0800
TZOFFSETTO:-0700
TZNAME:PDT
DTSTART:20190310T100000
END:DAYLIGHT
BEGIN:STANDARD
TZOFFSETFROM:-0700
TZOFFSETTO:-0800
TZNAME:PST
DTSTART:20191103T090000
END:STANDARD
BEGIN:DAYLIGHT
TZOFFSETFROM:-0800
TZOFFSETTO:-0700
TZNAME:PDT
DTSTART:20200308T100000
END:DAYLIGHT
BEGIN:STANDARD
TZOFFSETFROM:-0700
TZOFFSETTO:-0800
TZNAME:PST
DTSTART:20201101T090000
END:STANDARD
BEGIN:DAYLIGHT
TZOFFSETFROM:-0800
TZOFFSETTO:-0700
TZNAME:PDT
DTSTART:20210314T100000
END:DAYLIGHT
BEGIN:STANDARD
TZOFFSETFROM:-0700
TZOFFSETTO:-0800
TZNAME:PST
DTSTART:20211107T090000
END:STANDARD
END:VTIMEZONE
BEGIN:VEVENT
DTSTART;TZID=America/Vancouver:20201013T140000
DTEND;TZID=America/Vancouver:20201013T150000
DTSTAMP:20260419T085829
CREATED:20200909T220829Z
LAST-MODIFIED:20201009T184540Z
UID:9154-1602597600-1602601200@cte.capilanou.ca
SUMMARY:Teaching with Tech Tuesdays - ePortfolios
DESCRIPTION:This 4-part series that introduces different technology each week with a perspective on teaching to create a mini-ecosystem of learning in your course. Sign up to attend any or all of the sessions. \nePortfolio Assignments\nOctober 13\, 2020\n2:00 pm – 3:00 pm\nHow can my students stand out when they enter the job market? ePortfolios continue to be a excellent tool for students to gain real-work experience and build skills in a non-disposable assignment. Explore some assignment options for students that take advantage of the WordPress platform? \nSign up now! https://cte.capilanou.ca/event/teaching-with-tech-tuesdays
URL:https://cte.capilanou.ca/event/teaching-with-tech-tuesdays-eportfolios/
LOCATION:Capilano University\, 2055 Purcell Way\, North Vancouver\, BC\, V7J 3H5\, Canada
END:VEVENT
END:VCALENDAR