BEGIN:VCALENDAR
VERSION:2.0
PRODID:-//Centre for Teaching Excellence - ECPv6.15.20//NONSGML v1.0//EN
CALSCALE:GREGORIAN
METHOD:PUBLISH
X-ORIGINAL-URL:https://cte.capilanou.ca
X-WR-CALDESC:Events for Centre for Teaching Excellence
REFRESH-INTERVAL;VALUE=DURATION:PT1H
X-Robots-Tag:noindex
X-PUBLISHED-TTL:PT1H
BEGIN:VTIMEZONE
TZID:America/Vancouver
BEGIN:DAYLIGHT
TZOFFSETFROM:-0800
TZOFFSETTO:-0700
TZNAME:PDT
DTSTART:20190310T100000
END:DAYLIGHT
BEGIN:STANDARD
TZOFFSETFROM:-0700
TZOFFSETTO:-0800
TZNAME:PST
DTSTART:20191103T090000
END:STANDARD
BEGIN:DAYLIGHT
TZOFFSETFROM:-0800
TZOFFSETTO:-0700
TZNAME:PDT
DTSTART:20200308T100000
END:DAYLIGHT
BEGIN:STANDARD
TZOFFSETFROM:-0700
TZOFFSETTO:-0800
TZNAME:PST
DTSTART:20201101T090000
END:STANDARD
BEGIN:DAYLIGHT
TZOFFSETFROM:-0800
TZOFFSETTO:-0700
TZNAME:PDT
DTSTART:20210314T100000
END:DAYLIGHT
BEGIN:STANDARD
TZOFFSETFROM:-0700
TZOFFSETTO:-0800
TZNAME:PST
DTSTART:20211107T090000
END:STANDARD
END:VTIMEZONE
BEGIN:VEVENT
DTSTART;VALUE=DATE:20201001
DTEND;VALUE=DATE:20201002
DTSTAMP:20260419T085950
CREATED:20200929T174133Z
LAST-MODIFIED:20200930T160817Z
UID:10139-1601510400-1601596799@cte.capilanou.ca
SUMMARY:Teaching with eLearn Thursdays
DESCRIPTION:TEACHING WITH ELEARN THURSDAYS\nOctober 1 & 8\, 2020\n\n\nThese 30-min sessions will provide hands-on tutorials for moving your face-to-face course modules\, assessments\, etc. to eLearn. Each tutorial will focus on the “mechanics” of eLearn by walking you through the steps. Each session will answer a question “How do I …. on eLearn?”. If you would like to take this opportunity to learn from a faculty colleague\, sign up for one of the available sessions/dates. Resources related to each of sessions will also be provided. \nOctober 1\, 9:30 am — HOW DO I DO A WRITTEN SUBMISSION ASSIGNMENT ON ELEARN? \nOctober 1\, 10:00 am —  HOW DO I ENTER GRADES IN ELEARN? \nOctober 1\, 10:30 am — HOW DO I GRADE A WRITTEN SUBMISSION IN ELEARN – USING RUBRICS? \nOctober 1\, 11:00 am — HOW DO I GRADE A WRITTEN SUBMISSION IN ELEARN – USING MARKING GUIDE? \nOctober 1\, 12:00 pm — HOW DO I PROVIDE FEEDBACK ON A QUIZ IN ELEARN? \nOctober 1\, 12:30 pm — HOW DO I PROVIDE FEEDBACK ON A WRITTEN SUBMISSION IN ELEARN? \nOctober 1\, 1:00 pm — HOW DO I DO CREATE GROUPS ON ELEARN? \nOctober 1\, 1:30 pm — HOW DO I DO A GROUP PRESENTATION ASSIGNMENT IN ELEARN? \nOctober 1\, 2:30 pm — HOW DO I DO A JOURNALING/WRITING IMPROVEMENT ASSIGNMENT IN ELEARN? \nOctober 1\, 3:00 pm — HOW DO I DO MOVE MY QUIZ/MID-TERM/FINAL ONTO ELEARN? \nOctober 1\, 3:30 pm — HOW DO I DO A POSTER PRESENTATION ON ELEARN? \nOctober 1\, 4:00 pm — HOW DO I DO A PARTICIPATION GRADE ON ELEARN? \nOctober 1\, 5:00 pm — HOW DO I DO ENSURE ACADEMIC INTEGRITY FOR A WRITTEN ASSIGNMENT ON ELEARN? \nOctober 1\, 5:30 pm — HOW DO I DO ENSURE ACADEMIC INTEGRITY FOR A QUIZ ON ELEARN? \nSign up now!! https://cte.capilanou.ca/event/teaching-with-elearn-thursdays/ \n\n\n\n\n\n\n\n\n\n\n\n\n 
URL:https://cte.capilanou.ca/event/teaching-with-elearn-thursdays/
LOCATION:Capilano University\, 2055 Purcell Way\, North Vancouver\, BC\, V7J 3H5\, Canada
END:VEVENT
BEGIN:VEVENT
DTSTART;TZID=America/Vancouver:20201001T140000
DTEND;TZID=America/Vancouver:20201001T150000
DTSTAMP:20260419T085950
CREATED:20200916T190747Z
LAST-MODIFIED:20201002T153310Z
UID:9355-1601560800-1601564400@cte.capilanou.ca
SUMMARY:Intro to podcasting
DESCRIPTION:Radio and podcasting are very visual mediums. Learn how to create compelling narratives that students listen to while resting their tired eyes. \nIf you have any questions\, please contact us at cte@capilanou.ca. \n\n 
URL:https://cte.capilanou.ca/event/intro-to-podcasting/
LOCATION:Capilano University\, 2055 Purcell Way\, North Vancouver\, BC\, V7J 3H5\, Canada
END:VEVENT
END:VCALENDAR