BEGIN:VCALENDAR
VERSION:2.0
PRODID:-//Centre for Teaching Excellence - ECPv6.15.20//NONSGML v1.0//EN
CALSCALE:GREGORIAN
METHOD:PUBLISH
X-WR-CALNAME:Centre for Teaching Excellence
X-ORIGINAL-URL:https://cte.capilanou.ca
X-WR-CALDESC:Events for Centre for Teaching Excellence
REFRESH-INTERVAL;VALUE=DURATION:PT1H
X-Robots-Tag:noindex
X-PUBLISHED-TTL:PT1H
BEGIN:VTIMEZONE
TZID:America/Vancouver
BEGIN:DAYLIGHT
TZOFFSETFROM:-0800
TZOFFSETTO:-0700
TZNAME:PDT
DTSTART:20190310T100000
END:DAYLIGHT
BEGIN:STANDARD
TZOFFSETFROM:-0700
TZOFFSETTO:-0800
TZNAME:PST
DTSTART:20191103T090000
END:STANDARD
BEGIN:DAYLIGHT
TZOFFSETFROM:-0800
TZOFFSETTO:-0700
TZNAME:PDT
DTSTART:20200308T100000
END:DAYLIGHT
BEGIN:STANDARD
TZOFFSETFROM:-0700
TZOFFSETTO:-0800
TZNAME:PST
DTSTART:20201101T090000
END:STANDARD
BEGIN:DAYLIGHT
TZOFFSETFROM:-0800
TZOFFSETTO:-0700
TZNAME:PDT
DTSTART:20210314T100000
END:DAYLIGHT
BEGIN:STANDARD
TZOFFSETFROM:-0700
TZOFFSETTO:-0800
TZNAME:PST
DTSTART:20211107T090000
END:STANDARD
END:VTIMEZONE
BEGIN:VEVENT
DTSTART;TZID=America/Vancouver:20200922T110000
DTEND;TZID=America/Vancouver:20200922T120000
DTSTAMP:20260421T033326
CREATED:20200831T225703Z
LAST-MODIFIED:20200918T191134Z
UID:8948-1600772400-1600776000@cte.capilanou.ca
SUMMARY:Practice Session – Zoom
DESCRIPTION:Our session will be hosted in Zoom.  During the session each instructor will have the opportunity to practice at least one activity in Zoom\, e.g. sharing your screen\, using the whiteboard. \nPractice Session – Zoom \nTuesday 22nd September \n11:00am – 12:00 pm \n  \nPlease sign up now!
URL:https://cte.capilanou.ca/event/8948/
LOCATION:Capilano University\, 2055 Purcell Way\, North Vancouver\, BC\, V7J 3H5\, Canada
END:VEVENT
BEGIN:VEVENT
DTSTART;TZID=America/Vancouver:20200922T130000
DTEND;TZID=America/Vancouver:20200922T142000
DTSTAMP:20260421T033326
CREATED:20200915T190530Z
LAST-MODIFIED:20200918T191103Z
UID:9260-1600779600-1600784400@cte.capilanou.ca
SUMMARY:Pivoting on(the)Line -Experiences from Summer Teaching
DESCRIPTION:Tuesday\, September 22\, 2020\n1:00 pm – 2:20 pm via Zoom\n\n\nSince March 2020\, you have experienced the many facets of pivoting your classes to a new online environment. During these times of uncertainly\, we seek out colleagues whom we can share experiences with and learn from to build a supportive learning community. \nIn this session\, four instructors will share their experiences teaching during the summer semester at Capilano and will provide examples of their successes and plans for improvement based on lessons learned in Summer 2020. You will have time to pose questions to the four faculty during this session. \n\n\n\nIf you have any questions\, please contact us at cte@capilanou.ca. \n\n 
URL:https://cte.capilanou.ca/event/pivoting-ontheline-experiences-from-summer-teaching/
LOCATION:Capilano University\, 2055 Purcell Way\, North Vancouver\, BC\, V7J 3H5\, Canada
END:VEVENT
BEGIN:VEVENT
DTSTART;TZID=America/Vancouver:20200922T140000
DTEND;TZID=America/Vancouver:20200922T150000
DTSTAMP:20260421T033326
CREATED:20200909T220238Z
LAST-MODIFIED:20200918T191035Z
UID:9147-1600783200-1600786800@cte.capilanou.ca
SUMMARY:Teaching with Tech Tuesdays - Zoom
DESCRIPTION:This 4-part series that introduces different technology each week with a perspective on teaching to create a mini-ecosystem of learning in your course. Sign up to attend any or all of the sessions. \nSeptember 22\, 2020\n2:00 pm – 3:00 pm \nZoom\nDo I really need that ‘Waiting Room”? Can Zoom generate an attendance list? How can I encourage students to turn on their cameras and still have privacy? Explore the web version of Zoom and the downloaded app. \n 
URL:https://cte.capilanou.ca/event/teaching-with-tech-tuesdays-zoom/
LOCATION:Capilano University\, 2055 Purcell Way\, North Vancouver\, BC\, V7J 3H5\, Canada
END:VEVENT
END:VCALENDAR