BEGIN:VCALENDAR
VERSION:2.0
PRODID:-//Centre for Teaching Excellence - ECPv6.15.20//NONSGML v1.0//EN
CALSCALE:GREGORIAN
METHOD:PUBLISH
X-WR-CALNAME:Centre for Teaching Excellence
X-ORIGINAL-URL:https://cte.capilanou.ca
X-WR-CALDESC:Events for Centre for Teaching Excellence
REFRESH-INTERVAL;VALUE=DURATION:PT1H
X-Robots-Tag:noindex
X-PUBLISHED-TTL:PT1H
BEGIN:VTIMEZONE
TZID:America/Vancouver
BEGIN:DAYLIGHT
TZOFFSETFROM:-0800
TZOFFSETTO:-0700
TZNAME:PDT
DTSTART:20190310T100000
END:DAYLIGHT
BEGIN:STANDARD
TZOFFSETFROM:-0700
TZOFFSETTO:-0800
TZNAME:PST
DTSTART:20191103T090000
END:STANDARD
BEGIN:DAYLIGHT
TZOFFSETFROM:-0800
TZOFFSETTO:-0700
TZNAME:PDT
DTSTART:20200308T100000
END:DAYLIGHT
BEGIN:STANDARD
TZOFFSETFROM:-0700
TZOFFSETTO:-0800
TZNAME:PST
DTSTART:20201101T090000
END:STANDARD
BEGIN:DAYLIGHT
TZOFFSETFROM:-0800
TZOFFSETTO:-0700
TZNAME:PDT
DTSTART:20210314T100000
END:DAYLIGHT
BEGIN:STANDARD
TZOFFSETFROM:-0700
TZOFFSETTO:-0800
TZNAME:PST
DTSTART:20211107T090000
END:STANDARD
END:VTIMEZONE
BEGIN:VEVENT
DTSTART;TZID=America/Vancouver:20200910T140000
DTEND;TZID=America/Vancouver:20200910T150000
DTSTAMP:20260419T120943
CREATED:20200908T185914Z
LAST-MODIFIED:20200908T185914Z
UID:9105-1599746400-1599750000@cte.capilanou.ca
SUMMARY:TEACHING WITH ZOOM
DESCRIPTION:Thursday\, September 10\n2:00 pm – 3:00 pm via Zoom\n\n\nLearn how to set up your virtual office hours\, schedule a recurring class session\, operate the breakout rooms\, as well as share and annotate your screen. \n\n\n\nIf you have any questions\, please contact us at cte@capilanou.ca. \nLink to join: \n\n\nhttps://capu.zoom.us/meeting/register/u5IocuygqTwqHdSqRfn325lylXQITS9hdtQ7
URL:https://cte.capilanou.ca/event/teaching-with-zoom/
LOCATION:Capilano University\, 2055 Purcell Way\, North Vancouver\, BC\, V7J 3H5\, Canada
END:VEVENT
BEGIN:VEVENT
DTSTART;TZID=America/Vancouver:20200910T170000
DTEND;TZID=America/Vancouver:20200910T180000
DTSTAMP:20260419T120943
CREATED:20200831T225149Z
LAST-MODIFIED:20200831T230554Z
UID:8942-1599757200-1599760800@cte.capilanou.ca
SUMMARY:Practice Session – Zoom
DESCRIPTION:Our session will be hosted in Zoom.  During the session each instructor will have the opportunity to practice at least one activity in Zoom\, e.g. sharing your screen\, using the whiteboard. \nPractice Session – Zoom \nThursday 10th September \n5:00 – 6:00 pm \nPlease sign up now! \nLink to join: https://capu.zoom.us/j/7330233202
URL:https://cte.capilanou.ca/event/practice-session-zoom/
LOCATION:Capilano University\, 2055 Purcell Way\, North Vancouver\, BC\, V7J 3H5\, Canada
END:VEVENT
END:VCALENDAR