BEGIN:VCALENDAR
VERSION:2.0
PRODID:-//Centre for Teaching Excellence - ECPv6.15.20//NONSGML v1.0//EN
CALSCALE:GREGORIAN
METHOD:PUBLISH
X-ORIGINAL-URL:https://cte.capilanou.ca
X-WR-CALDESC:Events for Centre for Teaching Excellence
REFRESH-INTERVAL;VALUE=DURATION:PT1H
X-Robots-Tag:noindex
X-PUBLISHED-TTL:PT1H
BEGIN:VTIMEZONE
TZID:America/Vancouver
BEGIN:DAYLIGHT
TZOFFSETFROM:-0800
TZOFFSETTO:-0700
TZNAME:PDT
DTSTART:20190310T100000
END:DAYLIGHT
BEGIN:STANDARD
TZOFFSETFROM:-0700
TZOFFSETTO:-0800
TZNAME:PST
DTSTART:20191103T090000
END:STANDARD
BEGIN:DAYLIGHT
TZOFFSETFROM:-0800
TZOFFSETTO:-0700
TZNAME:PDT
DTSTART:20200308T100000
END:DAYLIGHT
BEGIN:STANDARD
TZOFFSETFROM:-0700
TZOFFSETTO:-0800
TZNAME:PST
DTSTART:20201101T090000
END:STANDARD
BEGIN:DAYLIGHT
TZOFFSETFROM:-0800
TZOFFSETTO:-0700
TZNAME:PDT
DTSTART:20210314T100000
END:DAYLIGHT
BEGIN:STANDARD
TZOFFSETFROM:-0700
TZOFFSETTO:-0800
TZNAME:PST
DTSTART:20211107T090000
END:STANDARD
END:VTIMEZONE
BEGIN:VEVENT
DTSTART;TZID=America/Vancouver:20200909T100000
DTEND;TZID=America/Vancouver:20200909T110000
DTSTAMP:20260421T033527
CREATED:20200911T233724Z
LAST-MODIFIED:20200911T233724Z
UID:9236-1599645600-1599649200@cte.capilanou.ca
SUMMARY:CONVERT YOUR SYLLABUS TO AN ELEARN COURSE (Part-1)
DESCRIPTION:Part 1 – Monday\, November 9\, 10:00-11:30\n\nPart 2 – Tuesday\, November 10\, 10:00-11:30\nPart 3 – Friday\, November 13\, 10:00-11:30\n\nThis three-part workshop guides participants through the process of building an online course from an existing syllabus. In parts one and two\, facilitators will demonstrate an approach to converting a syllabus into an online course in eLearn and participants will have opportunities to practice\, ask questions and get feedback. In part three\, we will meet again to discuss challenges and opportunities encountered and to share further strategies and next steps for building a clean and easy-to-follow eLearn course. \nPlease sign up from the registration form on the right. \n\n\n\nLink to join the workshop: https://capu.zoom.us/j/61901514215?pwd=VzB6WllxaERMdjROR1RjZStzbTBGZz09
URL:https://cte.capilanou.ca/event/convert-your-syllabus-to-an-elearn-course-part-1-2/
LOCATION:Capilano University\, 2055 Purcell Way\, North Vancouver\, BC\, V7J 3H5\, Canada
END:VEVENT
BEGIN:VEVENT
DTSTART;TZID=America/Vancouver:20200909T140000
DTEND;TZID=America/Vancouver:20200909T150000
DTSTAMP:20260421T033527
CREATED:20200908T185248Z
LAST-MODIFIED:20200908T185248Z
UID:9101-1599660000-1599663600@cte.capilanou.ca
SUMMARY:MAKING VIDEO IN ZOOM AND KALTURA
DESCRIPTION:September 9\, 2020\n10:00 am – 11:30 am via WebEx\n\n\nLearn how to record your live sessions and share them with students. Explore Kaltura video platform to create short and simple instructional videos. Create video feedback for student assignments. \n\n\n\nIf you have any questions\, please contact us at cte@capilanou.ca. \nLink to the workshop:\nhttps://capu.zoom.us/meeting/register/u5AqceChpzojG93QfL0iaX-yqIOyVDHhnyhi
URL:https://cte.capilanou.ca/event/making-video-in-zoom-and-kaltura/
LOCATION:Capilano University\, 2055 Purcell Way\, North Vancouver\, BC\, V7J 3H5\, Canada
END:VEVENT
END:VCALENDAR