BEGIN:VCALENDAR
VERSION:2.0
PRODID:-//Centre for Teaching Excellence - ECPv6.15.20//NONSGML v1.0//EN
CALSCALE:GREGORIAN
METHOD:PUBLISH
X-ORIGINAL-URL:https://cte.capilanou.ca
X-WR-CALDESC:Events for Centre for Teaching Excellence
REFRESH-INTERVAL;VALUE=DURATION:PT1H
X-Robots-Tag:noindex
X-PUBLISHED-TTL:PT1H
BEGIN:VTIMEZONE
TZID:America/Vancouver
BEGIN:DAYLIGHT
TZOFFSETFROM:-0800
TZOFFSETTO:-0700
TZNAME:PDT
DTSTART:20190310T100000
END:DAYLIGHT
BEGIN:STANDARD
TZOFFSETFROM:-0700
TZOFFSETTO:-0800
TZNAME:PST
DTSTART:20191103T090000
END:STANDARD
BEGIN:DAYLIGHT
TZOFFSETFROM:-0800
TZOFFSETTO:-0700
TZNAME:PDT
DTSTART:20200308T100000
END:DAYLIGHT
BEGIN:STANDARD
TZOFFSETFROM:-0700
TZOFFSETTO:-0800
TZNAME:PST
DTSTART:20201101T090000
END:STANDARD
BEGIN:DAYLIGHT
TZOFFSETFROM:-0800
TZOFFSETTO:-0700
TZNAME:PDT
DTSTART:20210314T100000
END:DAYLIGHT
BEGIN:STANDARD
TZOFFSETFROM:-0700
TZOFFSETTO:-0800
TZNAME:PST
DTSTART:20211107T090000
END:STANDARD
END:VTIMEZONE
BEGIN:VEVENT
DTSTART;TZID=America/Vancouver:20200904T093000
DTEND;TZID=America/Vancouver:20200904T110000
DTSTAMP:20260419T121105
CREATED:20200827T212129Z
LAST-MODIFIED:20200827T212129Z
UID:8872-1599211800-1599217200@cte.capilanou.ca
SUMMARY:MS Teams for Teaching
DESCRIPTION:This workshop is for anyone interested in using MS Teams as part of a course or learning experience. The session will provide a brief overview of the main functions of MS Teams and will provide participants an opportunity to explore a demonstration site and try out some features of the tool.\n\nFriday\, September 4\, 9:30-11:00\n\nPlease sign up from the form below\n\nLink to join the settion: https://capu.zoom.us/j/62875898633?pwd=dHFsZG5Vdld2Mm5FWVRMbG1BZ2VUZz09\n 
URL:https://cte.capilanou.ca/event/ms-teams-for-teaching-4/
LOCATION:Capilano University\, 2055 Purcell Way\, North Vancouver\, BC\, V7J 3H5\, Canada
END:VEVENT
BEGIN:VEVENT
DTSTART;TZID=America/Vancouver:20200904T130000
DTEND;TZID=America/Vancouver:20200904T140000
DTSTAMP:20260419T121105
CREATED:20200821T182035Z
LAST-MODIFIED:20200824T215946Z
UID:8807-1599224400-1599228000@cte.capilanou.ca
SUMMARY:Practice Sessions for Zoom
DESCRIPTION:1:00 pm – 2:00 pm Friday\, September 4 – Zoom \n\nBefore going live with your new polling\, breakout room\, white boarding\, etc. skills\, would you like a little practice?  Sign up here for one of CTE’s daily 1-hour Practice Sessions\, available from August 31st – September 4th. Each session will be hosted in one of CapU’s three video-conferencing platforms.  6 persons per session. \n\n\n\nIf you have any questions\, please contact us at cte@capilanou.ca. \nSign up now!
URL:https://cte.capilanou.ca/event/practice-sessions-for-zoom/
LOCATION:Capilano University\, 2055 Purcell Way\, North Vancouver\, BC\, V7J 3H5\, Canada
END:VEVENT
BEGIN:VEVENT
DTSTART;TZID=America/Vancouver:20200904T140000
DTEND;TZID=America/Vancouver:20200904T150000
DTSTAMP:20260419T121105
CREATED:20200901T223355Z
LAST-MODIFIED:20200901T223402Z
UID:8991-1599228000-1599231600@cte.capilanou.ca
SUMMARY:Practice Session - Zoom
DESCRIPTION:Before going live with your new polling\, breakout room\, white boarding\, etc. skills\, would you like a little practice?  Sign up here for one of CTE’s daily 1-hour Practice Sessions\, available from August 31st – September 4th. Each session will be hosted in one of CapU’s three video-conferencing platforms.  6 persons per session. \n\n\n\nIf you have any questions\, please contact us at cte@capilanou.ca. \nSign up now!
URL:https://cte.capilanou.ca/event/practice-session-zoom-6/
LOCATION:Capilano University\, 2055 Purcell Way\, North Vancouver\, BC\, V7J 3H5\, Canada
END:VEVENT
END:VCALENDAR