BEGIN:VCALENDAR
VERSION:2.0
PRODID:-//Centre for Teaching Excellence - ECPv6.15.20//NONSGML v1.0//EN
CALSCALE:GREGORIAN
METHOD:PUBLISH
X-WR-CALNAME:Centre for Teaching Excellence
X-ORIGINAL-URL:https://cte.capilanou.ca
X-WR-CALDESC:Events for Centre for Teaching Excellence
REFRESH-INTERVAL;VALUE=DURATION:PT1H
X-Robots-Tag:noindex
X-PUBLISHED-TTL:PT1H
BEGIN:VTIMEZONE
TZID:America/Vancouver
BEGIN:DAYLIGHT
TZOFFSETFROM:-0800
TZOFFSETTO:-0700
TZNAME:PDT
DTSTART:20190310T100000
END:DAYLIGHT
BEGIN:STANDARD
TZOFFSETFROM:-0700
TZOFFSETTO:-0800
TZNAME:PST
DTSTART:20191103T090000
END:STANDARD
BEGIN:DAYLIGHT
TZOFFSETFROM:-0800
TZOFFSETTO:-0700
TZNAME:PDT
DTSTART:20200308T100000
END:DAYLIGHT
BEGIN:STANDARD
TZOFFSETFROM:-0700
TZOFFSETTO:-0800
TZNAME:PST
DTSTART:20201101T090000
END:STANDARD
BEGIN:DAYLIGHT
TZOFFSETFROM:-0800
TZOFFSETTO:-0700
TZNAME:PDT
DTSTART:20210314T100000
END:DAYLIGHT
BEGIN:STANDARD
TZOFFSETFROM:-0700
TZOFFSETTO:-0800
TZNAME:PST
DTSTART:20211107T090000
END:STANDARD
END:VTIMEZONE
BEGIN:VEVENT
DTSTART;TZID=America/Vancouver:20200903T093000
DTEND;TZID=America/Vancouver:20200903T110000
DTSTAMP:20260421T033327
CREATED:20200827T211647Z
LAST-MODIFIED:20200827T211647Z
UID:8869-1599125400-1599130800@cte.capilanou.ca
SUMMARY:CONVERT YOUR SYLLABUS TO AN ELEARN COURSE (Part-3)
DESCRIPTION:Part 1: Monday\, August 31\, 9:30-11:00\nPart 2: Wednesday\, September 2\, 9:30-11:00\nPart 3: Thursday\, September 3\, 9:30-11:00 \nThis three-part workshop guides participants through the process of building an online course from an existing syllabus. In parts one and two\, facilitators will demonstrate an approach to converting a syllabus into an online course in eLearn and participants will have opportunities to practice\, ask questions and get feedback. In part three\, we will meet again to discuss challenges and opportunities encountered and to share further strategies and next steps for building a clean and easy-to-follow eLearn course. \n  \nPlease sign up at https://cte.capilanou.ca/program-events/convert-syllabus/ \nCONVERT YOUR SYLLABUS TO AN ELEARN COURSE (3-PART WORKSHOP)
URL:https://cte.capilanou.ca/event/convert-your-syllabus-to-an-elearn-course-part-3/
LOCATION:Capilano University\, 2055 Purcell Way\, North Vancouver\, BC\, V7J 3H5\, Canada
END:VEVENT
BEGIN:VEVENT
DTSTART;TZID=America/Vancouver:20200903T130000
DTEND;TZID=America/Vancouver:20200903T140000
DTSTAMP:20260421T033327
CREATED:20200821T181814Z
LAST-MODIFIED:20200824T215835Z
UID:8805-1599138000-1599141600@cte.capilanou.ca
SUMMARY:Practice Sessions for MS Teams
DESCRIPTION:1:00 pm – 2:00 pm  Thursday\, September 3 – MS Teams \n\nBefore going live with your new polling\, breakout room\, white boarding\, etc. skills\, would you like a little practice?  Sign up here for one of CTE’s daily 1-hour Practice Sessions\, available from August 31st – September 4th. Each session will be hosted in one of CapU’s three video-conferencing platforms.  6 persons per session. \n\n\n\nIf you have any questions\, please contact us at cte@capilanou.ca. \nUpcoming Session\nFriday\, September 4 – Zoom \nSign up now!
URL:https://cte.capilanou.ca/event/practice-sessions-for-ms-teams-2/
LOCATION:Capilano University\, 2055 Purcell Way\, North Vancouver\, BC\, V7J 3H5\, Canada
END:VEVENT
BEGIN:VEVENT
DTSTART;TZID=America/Vancouver:20200903T140000
DTEND;TZID=America/Vancouver:20200903T144500
DTSTAMP:20260421T033327
CREATED:20200901T151819Z
LAST-MODIFIED:20200901T151915Z
UID:8959-1599141600-1599144300@cte.capilanou.ca
SUMMARY:Intro to Zoom
DESCRIPTION:Thursday\, September 3\n \n2:00 pm – 2:45 pm \nZoom video conferencing has arrived at CapU. Learn how to run a Zoom session with your students. Manage participants\, share your screen and annotate it\, build breakout rooms\, add virtual backgrounds and much more.   \nLink to join for the session on September 3: https://capu.zoom.us/meeting/register/u5ctdOmoqT4rHNFtktK1dR3AauajFsZpYLXK \n  \nPlease sign up now!
URL:https://cte.capilanou.ca/event/intro-to-zoom-3/
LOCATION:Capilano University\, 2055 Purcell Way\, North Vancouver\, BC\, V7J 3H5\, Canada
END:VEVENT
END:VCALENDAR