BEGIN:VCALENDAR
VERSION:2.0
PRODID:-//Centre for Teaching Excellence - ECPv6.15.20//NONSGML v1.0//EN
CALSCALE:GREGORIAN
METHOD:PUBLISH
X-ORIGINAL-URL:https://cte.capilanou.ca
X-WR-CALDESC:Events for Centre for Teaching Excellence
REFRESH-INTERVAL;VALUE=DURATION:PT1H
X-Robots-Tag:noindex
X-PUBLISHED-TTL:PT1H
BEGIN:VTIMEZONE
TZID:America/Vancouver
BEGIN:DAYLIGHT
TZOFFSETFROM:-0800
TZOFFSETTO:-0700
TZNAME:PDT
DTSTART:20190310T100000
END:DAYLIGHT
BEGIN:STANDARD
TZOFFSETFROM:-0700
TZOFFSETTO:-0800
TZNAME:PST
DTSTART:20191103T090000
END:STANDARD
BEGIN:DAYLIGHT
TZOFFSETFROM:-0800
TZOFFSETTO:-0700
TZNAME:PDT
DTSTART:20200308T100000
END:DAYLIGHT
BEGIN:STANDARD
TZOFFSETFROM:-0700
TZOFFSETTO:-0800
TZNAME:PST
DTSTART:20201101T090000
END:STANDARD
BEGIN:DAYLIGHT
TZOFFSETFROM:-0800
TZOFFSETTO:-0700
TZNAME:PDT
DTSTART:20210314T100000
END:DAYLIGHT
BEGIN:STANDARD
TZOFFSETFROM:-0700
TZOFFSETTO:-0800
TZNAME:PST
DTSTART:20211107T090000
END:STANDARD
END:VTIMEZONE
BEGIN:VEVENT
DTSTART;TZID=America/Vancouver:20200902T093000
DTEND;TZID=America/Vancouver:20200902T110000
DTSTAMP:20260419T121105
CREATED:20200827T211508Z
LAST-MODIFIED:20200827T211508Z
UID:8867-1599039000-1599044400@cte.capilanou.ca
SUMMARY:CONVERT YOUR SYLLABUS TO AN ELEARN COURSE (Part-2)
DESCRIPTION:Part 1: Monday\, August 31\, 9:30-11:00\nPart 2: Wednesday\, September 2\, 9:30-11:00\nPart 3: Thursday\, September 3\, 9:30-11:00 \nThis three-part workshop guides participants through the process of building an online course from an existing syllabus. In parts one and two\, facilitators will demonstrate an approach to converting a syllabus into an online course in eLearn and participants will have opportunities to practice\, ask questions and get feedback. In part three\, we will meet again to discuss challenges and opportunities encountered and to share further strategies and next steps for building a clean and easy-to-follow eLearn course. \n  \nPlease sign up at https://cte.capilanou.ca/program-events/convert-syllabus/ \n 
URL:https://cte.capilanou.ca/event/convert-your-syllabus-to-an-elearn-course-part-2/
LOCATION:Capilano University\, 2055 Purcell Way\, North Vancouver\, BC\, V7J 3H5\, Canada
END:VEVENT
BEGIN:VEVENT
DTSTART;TZID=America/Vancouver:20200902T130000
DTEND;TZID=America/Vancouver:20200902T140000
DTSTAMP:20260419T121105
CREATED:20200821T161440Z
LAST-MODIFIED:20200824T215936Z
UID:8802-1599051600-1599055200@cte.capilanou.ca
SUMMARY:Practice Sessions for Zoom
DESCRIPTION:Wednesday\, September 2 – Zoom \nThursday\, September 3 – MS Teams\nFriday\, September 4 – Zoom \n  \n\n\nBefore going live with your new polling\, breakout room\, white boarding\, etc. skills\, would you like a little practice?  Sign up here for one of CTE’s daily 1-hour Practice Sessions\, available from August 31st – September 4th. Each session will be hosted in one of CapU’s three video-conferencing platforms.  6 persons per session. \n\n\n\nIf you have any questions\, please contact us at cte@capilanou.ca. \nSign up now!\nhttps://cte.capilanou.ca/program-events/practice-sessions/
URL:https://cte.capilanou.ca/event/8802/
LOCATION:Capilano University\, 2055 Purcell Way\, North Vancouver\, BC\, V7J 3H5\, Canada
END:VEVENT
BEGIN:VEVENT
DTSTART;TZID=America/Vancouver:20200902T140000
DTEND;TZID=America/Vancouver:20200902T144500
DTSTAMP:20260419T121105
CREATED:20200828T202405Z
LAST-MODIFIED:20200828T202405Z
UID:8913-1599055200-1599057900@cte.capilanou.ca
SUMMARY:INTRO TO ZOOM
DESCRIPTION:2:00 pm – 2:45 pm \nZoom video conferencing has arrived at CapU. Learn how to run a Zoom session with your students. Manage participants\, share your screen and annotate it\, build breakout rooms\, add virtual backgrounds and much more.   \nLink to join for the session on August 26:   https://capu.zoom.us/j/636185 42596?pwd=cnFiQnVYcmlUa1JpUjdNY2UzK2NMQT09
URL:https://cte.capilanou.ca/event/intro-to-zoom-2/
LOCATION:Capilano University\, 2055 Purcell Way\, North Vancouver\, BC\, V7J 3H5\, Canada
END:VEVENT
BEGIN:VEVENT
DTSTART;TZID=America/Vancouver:20200902T140000
DTEND;TZID=America/Vancouver:20200902T150000
DTSTAMP:20260419T121105
CREATED:20200827T210742Z
LAST-MODIFIED:20200827T210742Z
UID:8863-1599055200-1599058800@cte.capilanou.ca
SUMMARY:*Additional*  Practice Session – Zoom
DESCRIPTION:Wednesday\, September 2\n2:00 pm – 3:00 pm\nLink to join: https://capu.zoom.us/j/64100790111 \nPlease register at https://cte.capilanou.ca/program-events/practice-sessions/ \n 
URL:https://cte.capilanou.ca/event/additional-practice-session-zoom/
LOCATION:Capilano University\, 2055 Purcell Way\, North Vancouver\, BC\, V7J 3H5\, Canada
END:VEVENT
END:VCALENDAR