BEGIN:VCALENDAR
VERSION:2.0
PRODID:-//Centre for Teaching Excellence - ECPv6.15.20//NONSGML v1.0//EN
CALSCALE:GREGORIAN
METHOD:PUBLISH
X-ORIGINAL-URL:https://cte.capilanou.ca
X-WR-CALDESC:Events for Centre for Teaching Excellence
REFRESH-INTERVAL;VALUE=DURATION:PT1H
X-Robots-Tag:noindex
X-PUBLISHED-TTL:PT1H
BEGIN:VTIMEZONE
TZID:America/Vancouver
BEGIN:DAYLIGHT
TZOFFSETFROM:-0800
TZOFFSETTO:-0700
TZNAME:PDT
DTSTART:20190310T100000
END:DAYLIGHT
BEGIN:STANDARD
TZOFFSETFROM:-0700
TZOFFSETTO:-0800
TZNAME:PST
DTSTART:20191103T090000
END:STANDARD
BEGIN:DAYLIGHT
TZOFFSETFROM:-0800
TZOFFSETTO:-0700
TZNAME:PDT
DTSTART:20200308T100000
END:DAYLIGHT
BEGIN:STANDARD
TZOFFSETFROM:-0700
TZOFFSETTO:-0800
TZNAME:PST
DTSTART:20201101T090000
END:STANDARD
BEGIN:DAYLIGHT
TZOFFSETFROM:-0800
TZOFFSETTO:-0700
TZNAME:PDT
DTSTART:20210314T100000
END:DAYLIGHT
BEGIN:STANDARD
TZOFFSETFROM:-0700
TZOFFSETTO:-0800
TZNAME:PST
DTSTART:20211107T090000
END:STANDARD
END:VTIMEZONE
BEGIN:VEVENT
DTSTART;TZID=America/Vancouver:20200901T130000
DTEND;TZID=America/Vancouver:20200901T140000
DTSTAMP:20260419T121105
CREATED:20200821T155255Z
LAST-MODIFIED:20200824T215919Z
UID:8800-1598965200-1598968800@cte.capilanou.ca
SUMMARY:Practice Sessions for WebEx
DESCRIPTION:Tuesday\, September 1 – WebEx \nWednesday\, September 2 – Zoom\nThursday\, September 3 – MS Teams\nFriday\, September 4 – Zoom \n  \n\n\nBefore going live with your new polling\, breakout room\, white boarding\, etc. skills\, would you like a little practice?  Sign up here for one of CTE’s daily 1-hour Practice Sessions\, available from August 31st – September 4th. Each session will be hosted in one of CapU’s three video-conferencing platforms.  6 persons per session. \n\n\n\nIf you have any questions\, please contact us at cte@capilanou.ca. \nSign up now!\nhttps://cte.capilanou.ca/program-events/practice-sessions/
URL:https://cte.capilanou.ca/event/practice-sessions-for-webex/
LOCATION:Capilano University\, 2055 Purcell Way\, North Vancouver\, BC\, V7J 3H5\, Canada
END:VEVENT
END:VCALENDAR