BEGIN:VCALENDAR
VERSION:2.0
PRODID:-//Centre for Teaching Excellence - ECPv6.15.20//NONSGML v1.0//EN
CALSCALE:GREGORIAN
METHOD:PUBLISH
X-ORIGINAL-URL:https://cte.capilanou.ca
X-WR-CALDESC:Events for Centre for Teaching Excellence
REFRESH-INTERVAL;VALUE=DURATION:PT1H
X-Robots-Tag:noindex
X-PUBLISHED-TTL:PT1H
BEGIN:VTIMEZONE
TZID:America/Vancouver
BEGIN:DAYLIGHT
TZOFFSETFROM:-0800
TZOFFSETTO:-0700
TZNAME:PDT
DTSTART:20190310T100000
END:DAYLIGHT
BEGIN:STANDARD
TZOFFSETFROM:-0700
TZOFFSETTO:-0800
TZNAME:PST
DTSTART:20191103T090000
END:STANDARD
BEGIN:DAYLIGHT
TZOFFSETFROM:-0800
TZOFFSETTO:-0700
TZNAME:PDT
DTSTART:20200308T100000
END:DAYLIGHT
BEGIN:STANDARD
TZOFFSETFROM:-0700
TZOFFSETTO:-0800
TZNAME:PST
DTSTART:20201101T090000
END:STANDARD
BEGIN:DAYLIGHT
TZOFFSETFROM:-0800
TZOFFSETTO:-0700
TZNAME:PDT
DTSTART:20210314T100000
END:DAYLIGHT
BEGIN:STANDARD
TZOFFSETFROM:-0700
TZOFFSETTO:-0800
TZNAME:PST
DTSTART:20211107T090000
END:STANDARD
END:VTIMEZONE
BEGIN:VEVENT
DTSTART;VALUE=DATE:20200525
DTEND;VALUE=DATE:20200530
DTSTAMP:20260419T165724
CREATED:20200424T194138Z
LAST-MODIFIED:20200608T173801Z
UID:7919-1590364800-1590796799@cte.capilanou.ca
SUMMARY:Decolonizing & Indigenizng Curriculum Intro Session
DESCRIPTION:May 25 – May 29\, 2020 \n9:00 am – 10:00 am via WebEx\nWith Shawna Duncan\, Cree Nation\, CTE Educational Developer\, Indigenous Pedagogies \nWhat are the basics to indigenizing curriculum? Join us for a five-day microcourse on decolonizing and indigenizing curriculum. Each day starts with a 60-minute webinar from 9:00 -10:00 am.
URL:https://cte.capilanou.ca/event/decolonizing-indigenizing-curriculum-intro-session/
LOCATION:Capilano University\, 2055 Purcell Way\, North Vancouver\, BC\, V7J 3H5\, Canada
END:VEVENT
BEGIN:VEVENT
DTSTART;VALUE=DATE:20200525
DTEND;VALUE=DATE:20200606
DTSTAMP:20260419T165724
CREATED:20200424T221705Z
LAST-MODIFIED:20200608T173655Z
UID:7937-1590364800-1591401599@cte.capilanou.ca
SUMMARY:Active Online Learning
DESCRIPTION:This 2-week workshop is developed specifically for CapU faculty interested in complementing or rethinking a course with active learning activities online. The course emphasizes the value of collaboration with peers online\, and models active learning examples in order to facilitate understanding and reflection of the online learner experience. Participants will draw upon existing teaching experience as they experiment with a practical learning activity of their own choice online and gain feedback from peers. Participants can expect to spend 8-10 hours per week on the workshop. \nThe workshop will prepare you to: \nDemonstrate an Ed Tech Tool or Online Learning Process based on active learning\nAdopt/develop a student-centered active learning approach to online learning\nLearning Strategies: \nExperience active learning in action\nExplore how to elevate the student learning experience and include active learning strategies in the online component of their course(s)\nMap out an active online learning process\, which supports student learning and learning outcomes\nLearning Platforms: \nThe workshop will take place online\, primarily in Moodle and WebEx. Live online session is scheduled as above. (The live session will be recorded\, however\, since we will demo active learning\, it’s recommended that you participate if at all possible) \nTime Commitment: 8-10 hours/week\, mostly self-paced.
URL:https://cte.capilanou.ca/event/active-online-learning/
LOCATION:Online
END:VEVENT
BEGIN:VEVENT
DTSTART;TZID=America/Vancouver:20200526T130000
DTEND;TZID=America/Vancouver:20200526T140000
DTSTAMP:20260419T165724
CREATED:20200511T214054Z
LAST-MODIFIED:20200511T214126Z
UID:7984-1590498000-1590501600@cte.capilanou.ca
SUMMARY:Using Kaltura Video
DESCRIPTION:Join Barry Magrill for a Kaltura session on Tuesday May 12 at 10:00 am. Learn to record your screen with your picture in frame. Create your own off-the-desk video and make easy edits plus other tools and tips for creating video in your online class in eLearn.
URL:https://cte.capilanou.ca/event/using-kaltura-video-2/
LOCATION:Capilano University\, 2055 Purcell Way\, North Vancouver\, BC\, V7J 3H5\, Canada
END:VEVENT
END:VCALENDAR