BEGIN:VCALENDAR
VERSION:2.0
PRODID:-//Centre for Teaching Excellence - ECPv6.15.20//NONSGML v1.0//EN
CALSCALE:GREGORIAN
METHOD:PUBLISH
X-WR-CALNAME:Centre for Teaching Excellence
X-ORIGINAL-URL:https://cte.capilanou.ca
X-WR-CALDESC:Events for Centre for Teaching Excellence
REFRESH-INTERVAL;VALUE=DURATION:PT1H
X-Robots-Tag:noindex
X-PUBLISHED-TTL:PT1H
BEGIN:VTIMEZONE
TZID:America/Vancouver
BEGIN:DAYLIGHT
TZOFFSETFROM:-0800
TZOFFSETTO:-0700
TZNAME:PDT
DTSTART:20190310T100000
END:DAYLIGHT
BEGIN:STANDARD
TZOFFSETFROM:-0700
TZOFFSETTO:-0800
TZNAME:PST
DTSTART:20191103T090000
END:STANDARD
BEGIN:DAYLIGHT
TZOFFSETFROM:-0800
TZOFFSETTO:-0700
TZNAME:PDT
DTSTART:20200308T100000
END:DAYLIGHT
BEGIN:STANDARD
TZOFFSETFROM:-0700
TZOFFSETTO:-0800
TZNAME:PST
DTSTART:20201101T090000
END:STANDARD
BEGIN:DAYLIGHT
TZOFFSETFROM:-0800
TZOFFSETTO:-0700
TZNAME:PDT
DTSTART:20210314T100000
END:DAYLIGHT
BEGIN:STANDARD
TZOFFSETFROM:-0700
TZOFFSETTO:-0800
TZNAME:PST
DTSTART:20211107T090000
END:STANDARD
END:VTIMEZONE
BEGIN:VEVENT
DTSTART;VALUE=DATE:20200504
DTEND;VALUE=DATE:20200509
DTSTAMP:20260419T165716
CREATED:20200424T215130Z
LAST-MODIFIED:20200424T215130Z
UID:7924-1588550400-1588982399@cte.capilanou.ca
SUMMARY:ONLINE TEACHING FUNDAMENTALS MICROCOURSE
DESCRIPTION:May 4 – May 8\, 2020\n10:00 am – 11:30 am via WebEx \nThis one-week microcourse will introduce you to the fundamentals of design and delivery of online teaching and learning. The microcourse will be offered in a remote adapted delivery mode. \nEach day will begin with a 90-minute webinar (hosted in WebEx) on a different topic of course design and delivery that is followed by self-paced activities that allow you to build on what you have learned. \nTopics include how to make adjustments to your course design following best practices for online teaching\, how to adapt formative and summative assessments that work online\, how to quickly learn to operate online delivery tools such as video conferencing and the new Kaltura video platform\, and how to build a community of online learners. \nMonday\, May 4\nOnline Course Organization and Design \nTuesday\, May 5\nBuilding an inclusive online community. \nWednesday\, May 6\nTools & Platforms to Support Your Teaching \nThursday\, May 7\nAssessments & Assignments (Formative and Summative) Active Learning Tools & Ideas \nFriday\, May 8\nSynchronous Sessions & Office/Happy Hours/Community Circles
URL:https://cte.capilanou.ca/event/online-teaching-fundamentals-microcourse/
LOCATION:Online
END:VEVENT
END:VCALENDAR