BEGIN:VCALENDAR
VERSION:2.0
PRODID:-//Centre for Teaching Excellence - ECPv6.15.20//NONSGML v1.0//EN
CALSCALE:GREGORIAN
METHOD:PUBLISH
X-WR-CALNAME:Centre for Teaching Excellence
X-ORIGINAL-URL:https://cte.capilanou.ca
X-WR-CALDESC:Events for Centre for Teaching Excellence
REFRESH-INTERVAL;VALUE=DURATION:PT1H
X-Robots-Tag:noindex
X-PUBLISHED-TTL:PT1H
BEGIN:VTIMEZONE
TZID:America/Vancouver
BEGIN:DAYLIGHT
TZOFFSETFROM:-0800
TZOFFSETTO:-0700
TZNAME:PDT
DTSTART:20190310T100000
END:DAYLIGHT
BEGIN:STANDARD
TZOFFSETFROM:-0700
TZOFFSETTO:-0800
TZNAME:PST
DTSTART:20191103T090000
END:STANDARD
BEGIN:DAYLIGHT
TZOFFSETFROM:-0800
TZOFFSETTO:-0700
TZNAME:PDT
DTSTART:20200308T100000
END:DAYLIGHT
BEGIN:STANDARD
TZOFFSETFROM:-0700
TZOFFSETTO:-0800
TZNAME:PST
DTSTART:20201101T090000
END:STANDARD
BEGIN:DAYLIGHT
TZOFFSETFROM:-0800
TZOFFSETTO:-0700
TZNAME:PDT
DTSTART:20210314T100000
END:DAYLIGHT
BEGIN:STANDARD
TZOFFSETFROM:-0700
TZOFFSETTO:-0800
TZNAME:PST
DTSTART:20211107T090000
END:STANDARD
END:VTIMEZONE
BEGIN:VEVENT
DTSTART;TZID=America/Vancouver:20200429T110000
DTEND;TZID=America/Vancouver:20200429T120000
DTSTAMP:20260421T050450
CREATED:20200424T221214Z
LAST-MODIFIED:20200424T221214Z
UID:7935-1588158000-1588161600@cte.capilanou.ca
SUMMARY:Advanced Tools in Kaltura
DESCRIPTION:KALTURA ONLINE TRAINING BY WEBEX\nKaltura is a video platform for creating and sharing video (e.g\, lessons\, narrated powerpoint) that you can easily upload to your class in eLearn. In this webinar you will learn about the best uses for video in your online course and how to record video content\, edit and organize your videos\, and link them to your eLearn course. No more messy uploading to YouTube channels since Kaltura provides each user with a personal media space. Join the webinar to learn about these and other topics related to video in your online class. \nAdvanced Tools in Kaltura\nApril 29 11:00 am \nKaltura has a variety of advanced options for video production and sharing. In this webinar you will explore how to augment media in Kaltura by adding quizzes\, chapters\, and Powerpoint slides. Video production techniques using Kaltura Capture will be covered in more depth. You will also explore additional ways of attaching Kaltura media to your eLearn course.
URL:https://cte.capilanou.ca/event/advanced-tools-in-kaltura/
LOCATION:Online
END:VEVENT
END:VCALENDAR