BEGIN:VCALENDAR
VERSION:2.0
PRODID:-//Centre for Teaching Excellence - ECPv6.15.20//NONSGML v1.0//EN
CALSCALE:GREGORIAN
METHOD:PUBLISH
X-WR-CALNAME:Centre for Teaching Excellence
X-ORIGINAL-URL:https://cte.capilanou.ca
X-WR-CALDESC:Events for Centre for Teaching Excellence
REFRESH-INTERVAL;VALUE=DURATION:PT1H
X-Robots-Tag:noindex
X-PUBLISHED-TTL:PT1H
BEGIN:VTIMEZONE
TZID:America/Vancouver
BEGIN:DAYLIGHT
TZOFFSETFROM:-0800
TZOFFSETTO:-0700
TZNAME:PDT
DTSTART:20190310T100000
END:DAYLIGHT
BEGIN:STANDARD
TZOFFSETFROM:-0700
TZOFFSETTO:-0800
TZNAME:PST
DTSTART:20191103T090000
END:STANDARD
BEGIN:DAYLIGHT
TZOFFSETFROM:-0800
TZOFFSETTO:-0700
TZNAME:PDT
DTSTART:20200308T100000
END:DAYLIGHT
BEGIN:STANDARD
TZOFFSETFROM:-0700
TZOFFSETTO:-0800
TZNAME:PST
DTSTART:20201101T090000
END:STANDARD
BEGIN:DAYLIGHT
TZOFFSETFROM:-0800
TZOFFSETTO:-0700
TZNAME:PDT
DTSTART:20210314T100000
END:DAYLIGHT
BEGIN:STANDARD
TZOFFSETFROM:-0700
TZOFFSETTO:-0800
TZNAME:PST
DTSTART:20211107T090000
END:STANDARD
END:VTIMEZONE
BEGIN:VEVENT
DTSTART;TZID=America/Vancouver:20200428T100000
DTEND;TZID=America/Vancouver:20200428T110000
DTSTAMP:20260421T050449
CREATED:20200424T215450Z
LAST-MODIFIED:20200424T215450Z
UID:7929-1588068000-1588071600@cte.capilanou.ca
SUMMARY:Getting Started with Kaltura
DESCRIPTION:KALTURA ONLINE TRAINING BY WEBEX\n\n\n\n\nKaltura is a video platform for creating and sharing video (e.g\, lessons\, narrated powerpoint) that you can easily upload to your class in eLearn. In this webinar you will learn about the best uses for video in your online course and how to record video content\, edit and organize your videos\, and link them to your eLearn course. No more messy uploading to YouTube channels since Kaltura provides each user with a personal media space. Join the webinar to learn about these and other topics related to video in your online class.\n\n\nGetting Started with Kaltura\nApril 28\, 2020 10:00 am – 11:00 am\nMay 1\, 2020   1:00pm – 2:00 pm\n\nKaltura is a video creation and archive tool that lets you produce video for consumption by students in your online class. Also\, you may choose to publish your video for colleagues at CapU to share. In this webinar you will learn how to create video in a variety of ways including screen capture (with in-picture optional)\, or quick desktop capture. You will explore how to edit\, share and re-use media in Kaltura. Kaltura replaces the need for YouTube so you can create\, edit and publish your class video in the same convenient space easily linkable to eLearn.
URL:https://cte.capilanou.ca/event/getting-started-with-kaltura/
LOCATION:Online
END:VEVENT
END:VCALENDAR