BEGIN:VCALENDAR
VERSION:2.0
PRODID:-//Centre for Teaching Excellence - ECPv6.15.20//NONSGML v1.0//EN
CALSCALE:GREGORIAN
METHOD:PUBLISH
X-WR-CALNAME:Centre for Teaching Excellence
X-ORIGINAL-URL:https://cte.capilanou.ca
X-WR-CALDESC:Events for Centre for Teaching Excellence
REFRESH-INTERVAL;VALUE=DURATION:PT1H
X-Robots-Tag:noindex
X-PUBLISHED-TTL:PT1H
BEGIN:VTIMEZONE
TZID:America/Vancouver
BEGIN:DAYLIGHT
TZOFFSETFROM:-0800
TZOFFSETTO:-0700
TZNAME:PDT
DTSTART:20190310T100000
END:DAYLIGHT
BEGIN:STANDARD
TZOFFSETFROM:-0700
TZOFFSETTO:-0800
TZNAME:PST
DTSTART:20191103T090000
END:STANDARD
BEGIN:DAYLIGHT
TZOFFSETFROM:-0800
TZOFFSETTO:-0700
TZNAME:PDT
DTSTART:20200308T100000
END:DAYLIGHT
BEGIN:STANDARD
TZOFFSETFROM:-0700
TZOFFSETTO:-0800
TZNAME:PST
DTSTART:20201101T090000
END:STANDARD
BEGIN:DAYLIGHT
TZOFFSETFROM:-0800
TZOFFSETTO:-0700
TZNAME:PDT
DTSTART:20210314T100000
END:DAYLIGHT
BEGIN:STANDARD
TZOFFSETFROM:-0700
TZOFFSETTO:-0800
TZNAME:PST
DTSTART:20211107T090000
END:STANDARD
END:VTIMEZONE
BEGIN:VEVENT
DTSTART;VALUE=DATE:20200218
DTEND;VALUE=DATE:20200304
DTSTAMP:20260419T202901
CREATED:20191126T213627Z
LAST-MODIFIED:20191126T213814Z
UID:6861-1581984000-1583279999@cte.capilanou.ca
SUMMARY:Active Learning Online
DESCRIPTION:This 2-week workshop is developed specifically for CapU faculty interested in complementing or rethinking a course with active learning activities online. The course emphasizes the value of collaboration with peers online\, and models active learning examples in order to facilitate understanding and reflection of the online learner experience. Participants will draw upon existing teaching experience as they experiment with a practical learning activity of their own choice online and gain feedback from peers. Participants can expect to spend 8-10 hours per week on the workshop.
URL:https://cte.capilanou.ca/event/active-learning-online-3/
LOCATION:Capilano University\, 2055 Purcell Way\, North Vancouver\, BC\, V7J 3H5\, Canada
END:VEVENT
BEGIN:VEVENT
DTSTART;TZID=America/Vancouver:20200225T080000
DTEND;TZID=America/Vancouver:20200225T170000
DTSTAMP:20260419T202901
CREATED:20200127T215312Z
LAST-MODIFIED:20200127T215312Z
UID:7188-1582617600-1582650000@cte.capilanou.ca
SUMMARY:Teaching Portfolios
DESCRIPTION:Want to create your own Teaching Portfolio? Join us for our four-part series on developing your Teaching Portfolio. This is an excellent way to document evidence of your teaching and to showcase your teaching and learning accomplishments. Teaching Portfolios can be included as a self-submission in your evaluation file.
URL:https://cte.capilanou.ca/event/teaching-portfolios-4/
LOCATION:Capilano University\, 2055 Purcell Way\, North Vancouver\, BC\, V7J 3H5\, Canada
ORGANIZER;CN="Centre for Teaching Excellence":MAILTO:cte@capilanou.ca
END:VEVENT
BEGIN:VEVENT
DTSTART;TZID=America/Vancouver:20200225T130000
DTEND;TZID=America/Vancouver:20200225T142000
DTSTAMP:20260419T202901
CREATED:20191216T233226Z
LAST-MODIFIED:20191217T232136Z
UID:6998-1582635600-1582640400@cte.capilanou.ca
SUMMARY:CTE Book Club
DESCRIPTION:6 meetings FR402A 1:00 am – 2:20 pm \nOur book choice is A Mind Spread out on the Ground by Alicia Elliott\, a Tuscarora writer from Six Nations of the Grand River. This book tackles issues of racism\, oppression\, and trauma and poses key questions regarding the treatment of Indigenous peoples. \nDavid Geary will co-faciliate the book club\, which will be held on the following Tuesdays from 1:00 – 2:20 p.m. at the CTE\, Fir 402A: \nTuesday\, January 14 and 28\nTuesday\, February 11 and 25\nTuesday\, March 10 and 24 \nMark these dates in your calendar and sign up now! \nThe first 5 participants who commit to attending all six book club meetings will receive a free copy of the book. \nPlease sign up from the form below!
URL:https://cte.capilanou.ca/event/cte-book-club-5/
LOCATION:Capilano University\, 2055 Purcell Way\, North Vancouver\, BC\, V7J 3H5\, Canada
END:VEVENT
END:VCALENDAR