BEGIN:VCALENDAR
VERSION:2.0
PRODID:-//Centre for Teaching Excellence - ECPv6.15.20//NONSGML v1.0//EN
CALSCALE:GREGORIAN
METHOD:PUBLISH
X-WR-CALNAME:Centre for Teaching Excellence
X-ORIGINAL-URL:https://cte.capilanou.ca
X-WR-CALDESC:Events for Centre for Teaching Excellence
REFRESH-INTERVAL;VALUE=DURATION:PT1H
X-Robots-Tag:noindex
X-PUBLISHED-TTL:PT1H
BEGIN:VTIMEZONE
TZID:America/Vancouver
BEGIN:DAYLIGHT
TZOFFSETFROM:-0800
TZOFFSETTO:-0700
TZNAME:PDT
DTSTART:20180311T100000
END:DAYLIGHT
BEGIN:STANDARD
TZOFFSETFROM:-0700
TZOFFSETTO:-0800
TZNAME:PST
DTSTART:20181104T090000
END:STANDARD
BEGIN:DAYLIGHT
TZOFFSETFROM:-0800
TZOFFSETTO:-0700
TZNAME:PDT
DTSTART:20190310T100000
END:DAYLIGHT
BEGIN:STANDARD
TZOFFSETFROM:-0700
TZOFFSETTO:-0800
TZNAME:PST
DTSTART:20191103T090000
END:STANDARD
BEGIN:DAYLIGHT
TZOFFSETFROM:-0800
TZOFFSETTO:-0700
TZNAME:PDT
DTSTART:20200308T100000
END:DAYLIGHT
BEGIN:STANDARD
TZOFFSETFROM:-0700
TZOFFSETTO:-0800
TZNAME:PST
DTSTART:20201101T090000
END:STANDARD
END:VTIMEZONE
BEGIN:VEVENT
DTSTART;TZID=America/Vancouver:20190918T120000
DTEND;TZID=America/Vancouver:20190918T130000
DTSTAMP:20260422T151335
CREATED:20190626T200413Z
LAST-MODIFIED:20190626T200413Z
UID:5484-1568808000-1568811600@cte.capilanou.ca
SUMMARY:Teaching Triangles
DESCRIPTION:Interested in observing and learning what other faculty do in the classroom? The Teaching Triangles Program provides faculty with an opportunity to gain new insight into their teaching through a non-evaluative process of reciprocal classroom observation and self-reflection. Three faculty members in each “teaching triangle” agree to visit each other’s classes over the course of a semester and then meet to discuss what they’ve learned from their observations and reflections. Teaching Triangles celebrates teaching excellence\, builds rapport among faculty in different disciplines\, and encourages reflection of teaching practice. Time commitment is approximately 8 hours over the course of the semester (1 hour orientation\, 1 hour meeting with faculty in teaching triangle\, 3 X 1.5 class visits\, 1 hour wrap up and reflection). \nRegister now by emailing cte@capilanou.ca
URL:https://cte.capilanou.ca/event/teaching-triangles/
LOCATION:Capilano University\, 2055 Purcell Way\, North Vancouver\, BC\, V7J 3H5\, Canada
END:VEVENT
END:VCALENDAR