BEGIN:VCALENDAR
VERSION:2.0
PRODID:-//Centre for Teaching Excellence - ECPv6.15.20//NONSGML v1.0//EN
CALSCALE:GREGORIAN
METHOD:PUBLISH
X-WR-CALNAME:Centre for Teaching Excellence
X-ORIGINAL-URL:https://cte.capilanou.ca
X-WR-CALDESC:Events for Centre for Teaching Excellence
REFRESH-INTERVAL;VALUE=DURATION:PT1H
X-Robots-Tag:noindex
X-PUBLISHED-TTL:PT1H
BEGIN:VTIMEZONE
TZID:America/Vancouver
BEGIN:DAYLIGHT
TZOFFSETFROM:-0800
TZOFFSETTO:-0700
TZNAME:PDT
DTSTART:20180311T100000
END:DAYLIGHT
BEGIN:STANDARD
TZOFFSETFROM:-0700
TZOFFSETTO:-0800
TZNAME:PST
DTSTART:20181104T090000
END:STANDARD
BEGIN:DAYLIGHT
TZOFFSETFROM:-0800
TZOFFSETTO:-0700
TZNAME:PDT
DTSTART:20190310T100000
END:DAYLIGHT
BEGIN:STANDARD
TZOFFSETFROM:-0700
TZOFFSETTO:-0800
TZNAME:PST
DTSTART:20191103T090000
END:STANDARD
BEGIN:DAYLIGHT
TZOFFSETFROM:-0800
TZOFFSETTO:-0700
TZNAME:PDT
DTSTART:20200308T100000
END:DAYLIGHT
BEGIN:STANDARD
TZOFFSETFROM:-0700
TZOFFSETTO:-0800
TZNAME:PST
DTSTART:20201101T090000
END:STANDARD
END:VTIMEZONE
BEGIN:VEVENT
DTSTART;TZID=America/Vancouver:20190917T100000
DTEND;TZID=America/Vancouver:20190917T112000
DTSTAMP:20260422T151335
CREATED:20190612T202449Z
LAST-MODIFIED:20190911T213018Z
UID:5290-1568714400-1568719200@cte.capilanou.ca
SUMMARY:CTE Book Club
DESCRIPTION:This fall we will be reading and discussing The Courage to Teach: Exploring the Inner Landscape of a Teacher’s Life by Parker J. Palmer. The first book club meeting is scheduled for September 25th. All faculty member welcome! Monthly meetings will be held on the last Wednesday of the month. \nKick off meeting: September 25\, 2019 10:00 – 11:20 am  FR402A\nEmail us at cte@capilanou.ca to join.
URL:https://cte.capilanou.ca/event/cte-bood-club/
END:VEVENT
END:VCALENDAR