BEGIN:VCALENDAR
VERSION:2.0
PRODID:-//Centre for Teaching Excellence - ECPv6.15.20//NONSGML v1.0//EN
CALSCALE:GREGORIAN
METHOD:PUBLISH
X-ORIGINAL-URL:https://cte.capilanou.ca
X-WR-CALDESC:Events for Centre for Teaching Excellence
REFRESH-INTERVAL;VALUE=DURATION:PT1H
X-Robots-Tag:noindex
X-PUBLISHED-TTL:PT1H
BEGIN:VTIMEZONE
TZID:America/Vancouver
BEGIN:DAYLIGHT
TZOFFSETFROM:-0800
TZOFFSETTO:-0700
TZNAME:PDT
DTSTART:20180311T100000
END:DAYLIGHT
BEGIN:STANDARD
TZOFFSETFROM:-0700
TZOFFSETTO:-0800
TZNAME:PST
DTSTART:20181104T090000
END:STANDARD
BEGIN:DAYLIGHT
TZOFFSETFROM:-0800
TZOFFSETTO:-0700
TZNAME:PDT
DTSTART:20190310T100000
END:DAYLIGHT
BEGIN:STANDARD
TZOFFSETFROM:-0700
TZOFFSETTO:-0800
TZNAME:PST
DTSTART:20191103T090000
END:STANDARD
BEGIN:DAYLIGHT
TZOFFSETFROM:-0800
TZOFFSETTO:-0700
TZNAME:PDT
DTSTART:20200308T100000
END:DAYLIGHT
BEGIN:STANDARD
TZOFFSETFROM:-0700
TZOFFSETTO:-0800
TZNAME:PST
DTSTART:20201101T090000
END:STANDARD
END:VTIMEZONE
BEGIN:VEVENT
DTSTART;TZID=America/Vancouver:20190213T113000
DTEND;TZID=America/Vancouver:20190213T130000
DTSTAMP:20260424T180902
CREATED:20190104T220213Z
LAST-MODIFIED:20190212T001142Z
UID:2051-1550057400-1550062800@cte.capilanou.ca
SUMMARY:CTE Lunch and Learns
DESCRIPTION:FR402A (CTE meeting room) \nJoin us for informal brown bag lunch series on a variety of teaching-related topics. Meet new colleagues\, expand your campus-side network\, and share your experiences. \nToday's Topic: Simplify Your Peer Evaluation Workflow with Moodle: From Paper to Excel\n\nThe peer evaluations for the group projects are in! In front of you is a pile of about 35 X 5 handwritten evaluations and ratings completed by your students. Now what? \n\nPeer evaluations for group projects can be a valuable assessment and teaching and learning tool when thoughtfully implemented and aligned. In this lunch and learn\, we will discuss examples of peer evaluations and how they are used\, and explore how you might want to set them up in Moodle to easily compile the data for feedback and/or translation into grades.  \n\nBring your lunch\, your peer evaluation questions and examples (paper or electronic copies) and your laptop for some hands-on practice.\n\nFacilitated by Bettina Boyle (Centre for Teaching Excellence) and Susan Mangan (IT Services)\n 
URL:https://cte.capilanou.ca/event/cte-lunch-and-learns-2/
LOCATION:Capilano University\, 2055 Purcell Way\, North Vancouver\, BC\, V7J 3H5\, Canada
END:VEVENT
END:VCALENDAR